BEGIN:VCALENDAR
VERSION:2.0
PRODID:-//Workforce Solutions Capital Area - ECPv6.15.20//NONSGML v1.0//EN
CALSCALE:GREGORIAN
METHOD:PUBLISH
X-WR-CALNAME:Workforce Solutions Capital Area
X-ORIGINAL-URL:https://wfscapitalarea.com
X-WR-CALDESC:Events for Workforce Solutions Capital Area
REFRESH-INTERVAL;VALUE=DURATION:PT1H
X-Robots-Tag:noindex
X-PUBLISHED-TTL:PT1H
BEGIN:VTIMEZONE
TZID:America/Chicago
BEGIN:DAYLIGHT
TZOFFSETFROM:-0600
TZOFFSETTO:-0500
TZNAME:CDT
DTSTART:20240310T080000
END:DAYLIGHT
BEGIN:STANDARD
TZOFFSETFROM:-0500
TZOFFSETTO:-0600
TZNAME:CST
DTSTART:20241103T070000
END:STANDARD
BEGIN:DAYLIGHT
TZOFFSETFROM:-0600
TZOFFSETTO:-0500
TZNAME:CDT
DTSTART:20250309T080000
END:DAYLIGHT
BEGIN:STANDARD
TZOFFSETFROM:-0500
TZOFFSETTO:-0600
TZNAME:CST
DTSTART:20251102T070000
END:STANDARD
BEGIN:DAYLIGHT
TZOFFSETFROM:-0600
TZOFFSETTO:-0500
TZNAME:CDT
DTSTART:20260308T080000
END:DAYLIGHT
BEGIN:STANDARD
TZOFFSETFROM:-0500
TZOFFSETTO:-0600
TZNAME:CST
DTSTART:20261101T070000
END:STANDARD
END:VTIMEZONE
BEGIN:VEVENT
DTSTART;TZID=America/Chicago:20250901T090000
DTEND;TZID=America/Chicago:20250901T120000
DTSTAMP:20260423T170556
CREATED:20260319T220145Z
LAST-MODIFIED:20260413T192930Z
UID:10003762-1756717200-1756728000@wfscapitalarea.com
SUMMARY:Career MAPS Day 1/4: Measure and Meaning
DESCRIPTION:strong>Let’s talk about career exploration. \nMeasure and Meaning is about participants measuring various aspects related to their personal situation\, career skills\, and self-exploration of values\, interests\, and abilities. \nThis is the first of four days of Career MAPS. Register for Day 2 here. \nRegister Here
URL:https://wfscapitalarea.com/event/career-maps-day-1-4-measure-and-meaning/2025-09-01/
LOCATION:Virtual\, USA
CATEGORIES:Career Workshops
ATTACH;FMTTYPE=image/jpeg:https://wfscapitalarea.com/wp-content/uploads/2026/03/wfs-logo-featured-image-blue.jpg
ORGANIZER;CN="Workforce Solutions Capital Area":MAILTO:info@wfscapitalarea.com
END:VEVENT
BEGIN:VEVENT
DTSTART;TZID=America/Chicago:20250902T130000
DTEND;TZID=America/Chicago:20250902T143000
DTSTAMP:20260423T170556
CREATED:20260319T220145Z
LAST-MODIFIED:20260413T200022Z
UID:10004023-1756818000-1756823400@wfscapitalarea.com
SUMMARY:Learn WorkInTexas
DESCRIPTION:Join us for a brief overview of work registration and resume building in WorkInTexas.com\, the state’s job searching website. \nWe’ll provide a basic training to gain the most out of the WorkInTexas website. \n\nLearn how to create a basic resume in WorkInTexas\, so that by the end of the workshop you will be able to print out your completed resume. Must be pre-registered in WorkInTexas.com.\n\nVer próximos talleres de Español \nRegister Here
URL:https://wfscapitalarea.com/event/learn-workintexas/2025-09-02/
LOCATION:Virtual\, USA
CATEGORIES:Career Workshops
ATTACH;FMTTYPE=image/jpeg:https://wfscapitalarea.com/wp-content/uploads/2026/03/wfs-logo-featured-image-gold.jpg
ORGANIZER;CN="Workforce Solutions Capital Area":MAILTO:info@wfscapitalarea.com
END:VEVENT
BEGIN:VEVENT
DTSTART;TZID=America/Chicago:20250902T150000
DTEND;TZID=America/Chicago:20250902T170000
DTSTAMP:20260423T170556
CREATED:20260319T220144Z
LAST-MODIFIED:20260413T193001Z
UID:10004823-1756825200-1756832400@wfscapitalarea.com
SUMMARY:Career MAPS Day 2/4: Attitude and Altitude
DESCRIPTION:This is the second of four days for Career MAPS. \nAttitude and Altitude is about exploring communication skills\, interpersonal relations\, and other areas of the self that tend to get in the way of individual success. These activities include the forgotten skill of good and effective listening which is paramount for success. Other module topics include time management\, stress management\, and diversity and ethics. Good Customer Service is a facet of every employment situation and is one of the modules included on day two. \nRegister for Day 3 here. \nRegister Here
URL:https://wfscapitalarea.com/event/career-maps-day-2-4-attitude-and-altitude/2025-09-02/
LOCATION:Virtual\, USA
CATEGORIES:Career Workshops
ATTACH;FMTTYPE=image/jpeg:https://wfscapitalarea.com/wp-content/uploads/2026/03/wfs-logo-featured-image-blue.jpg
ORGANIZER;CN="Workforce Solutions Capital Area":MAILTO:info@wfscapitalarea.com
END:VEVENT
BEGIN:VEVENT
DTSTART;TZID=America/Chicago:20250903T130000
DTEND;TZID=America/Chicago:20250903T150000
DTSTAMP:20260423T170556
CREATED:20260319T215947Z
LAST-MODIFIED:20260413T193036Z
UID:10005054-1756904400-1756911600@wfscapitalarea.com
SUMMARY:Career MAPS Day 3/4: Purposes and Patterns
DESCRIPTION:This is the third of four days for Career MAPS. \nPurpose and Patterns are the themes of the day with sessions that cover Labor Market Information\, understanding the data and what it means to the participant job seeker as well as workforce trends\, career planning\, career exploration\, and a mock interview to help participants hone their interview skills. \nRegister for Day 4 here. \nRegister Here
URL:https://wfscapitalarea.com/event/career-maps-day-3-4-purposes-and-patterns/2025-09-03/
LOCATION:Virtual\, USA
CATEGORIES:Career Workshops
ATTACH;FMTTYPE=image/jpeg:https://wfscapitalarea.com/wp-content/uploads/2026/03/wfs-logo-featured-image-blue.jpg
ORGANIZER;CN="Workforce Solutions Capital Area":MAILTO:info@wfscapitalarea.com
END:VEVENT
BEGIN:VEVENT
DTSTART;TZID=America/Chicago:20250904T130000
DTEND;TZID=America/Chicago:20250904T143000
DTSTAMP:20260423T170556
CREATED:20260319T220145Z
LAST-MODIFIED:20260413T200022Z
UID:10004024-1756990800-1756996200@wfscapitalarea.com
SUMMARY:Learn WorkInTexas
DESCRIPTION:Join us for a brief overview of work registration and resume building in WorkInTexas.com\, the state’s job searching website. \nWe’ll provide a basic training to gain the most out of the WorkInTexas website. \n\nLearn how to create a basic resume in WorkInTexas\, so that by the end of the workshop you will be able to print out your completed resume. Must be pre-registered in WorkInTexas.com.\n\nVer próximos talleres de Español \nRegister Here
URL:https://wfscapitalarea.com/event/learn-workintexas/2025-09-04/
LOCATION:Virtual\, USA
CATEGORIES:Career Workshops
ATTACH;FMTTYPE=image/jpeg:https://wfscapitalarea.com/wp-content/uploads/2026/03/wfs-logo-featured-image-gold.jpg
ORGANIZER;CN="Workforce Solutions Capital Area":MAILTO:info@wfscapitalarea.com
END:VEVENT
BEGIN:VEVENT
DTSTART;TZID=America/Chicago:20250905T140000
DTEND;TZID=America/Chicago:20250905T163000
DTSTAMP:20260423T170556
CREATED:20260319T215947Z
LAST-MODIFIED:20260413T193048Z
UID:10005285-1757080800-1757089800@wfscapitalarea.com
SUMMARY:Career MAPS Day 4/4: Sources and Success
DESCRIPTION:This is the fourth and final day of Career MAPS. \nSources and Success top out our final day with modules that focus on creating a personal brand through marketing\, modern resume and cover letter\, and the very necessary networking skills. By the end of the day\, participants will have all the tools needed to secure the career aspirations they have set their intentions forward to attain with an action plan to help them follow through. \nRegister Here
URL:https://wfscapitalarea.com/event/career-maps-day-4-4-sources-and-success/2025-09-05/
LOCATION:Virtual\, USA
CATEGORIES:Career Workshops
ATTACH;FMTTYPE=image/jpeg:https://wfscapitalarea.com/wp-content/uploads/2026/03/wfs-logo-featured-image-blue.jpg
ORGANIZER;CN="Workforce Solutions Capital Area":MAILTO:info@wfscapitalarea.com
END:VEVENT
BEGIN:VEVENT
DTSTART;TZID=America/Chicago:20250908T130000
DTEND;TZID=America/Chicago:20250908T150000
DTSTAMP:20260423T170556
CREATED:20260413T200538Z
LAST-MODIFIED:20260413T200706Z
UID:10005461-1757336400-1757343600@wfscapitalarea.com
SUMMARY:Overcoming Barriers to Employment
DESCRIPTION:Feel stuck in your job search? Does it seem like there are just too many hurdles to finding your next career? \nWe can help! Join us virtually for a workshop on overcoming barriers to employment. \nRegister Here
URL:https://wfscapitalarea.com/event/overcoming-barriers-to-employment/2025-09-08/
LOCATION:Virtual\, USA
CATEGORIES:Career Workshops
ATTACH;FMTTYPE=image/jpeg:https://wfscapitalarea.com/wp-content/uploads/2026/03/wfs-logo-featured-image-gold.jpg
ORGANIZER;CN="Workforce Solutions Capital Area":MAILTO:info@wfscapitalarea.com
END:VEVENT
BEGIN:VEVENT
DTSTART;TZID=America/Chicago:20250909T103000
DTEND;TZID=America/Chicago:20250909T120000
DTSTAMP:20260423T170556
CREATED:20260319T220145Z
LAST-MODIFIED:20260413T201248Z
UID:10005702-1757413800-1757419200@wfscapitalarea.com
SUMMARY:Resume Writing
DESCRIPTION:Learn how to do a basic resume in WorkInTexas so that by the end of the class you will be able to print out your completed resume. \nWe will give a brief overview of work registration and resume building in WorkInTexas.com. Take this basic training to get the most out of the WorkInTexas website. \nMust be pre-registered in WorkinTexas. \nRegister Here
URL:https://wfscapitalarea.com/event/resume-writing/2025-09-09/
LOCATION:Virtual\, USA
CATEGORIES:Career Workshops
ATTACH;FMTTYPE=image/jpeg:https://wfscapitalarea.com/wp-content/uploads/2026/03/wfs-logo-featured-image-blue.jpg
ORGANIZER;CN="Workforce Solutions Capital Area":MAILTO:info@wfscapitalarea.com
END:VEVENT
BEGIN:VEVENT
DTSTART;TZID=America/Chicago:20250909T130000
DTEND;TZID=America/Chicago:20250909T143000
DTSTAMP:20260423T170556
CREATED:20260319T220145Z
LAST-MODIFIED:20260413T200022Z
UID:10004025-1757422800-1757428200@wfscapitalarea.com
SUMMARY:Learn WorkInTexas
DESCRIPTION:Join us for a brief overview of work registration and resume building in WorkInTexas.com\, the state’s job searching website. \nWe’ll provide a basic training to gain the most out of the WorkInTexas website. \n\nLearn how to create a basic resume in WorkInTexas\, so that by the end of the workshop you will be able to print out your completed resume. Must be pre-registered in WorkInTexas.com.\n\nVer próximos talleres de Español \nRegister Here
URL:https://wfscapitalarea.com/event/learn-workintexas/2025-09-09/
LOCATION:Virtual\, USA
CATEGORIES:Career Workshops
ATTACH;FMTTYPE=image/jpeg:https://wfscapitalarea.com/wp-content/uploads/2026/03/wfs-logo-featured-image-gold.jpg
ORGANIZER;CN="Workforce Solutions Capital Area":MAILTO:info@wfscapitalarea.com
END:VEVENT
BEGIN:VEVENT
DTSTART;TZID=America/Chicago:20250911T130000
DTEND;TZID=America/Chicago:20250911T143000
DTSTAMP:20260423T170556
CREATED:20260319T220145Z
LAST-MODIFIED:20260413T200022Z
UID:10004026-1757595600-1757601000@wfscapitalarea.com
SUMMARY:Learn WorkInTexas
DESCRIPTION:Join us for a brief overview of work registration and resume building in WorkInTexas.com\, the state’s job searching website. \nWe’ll provide a basic training to gain the most out of the WorkInTexas website. \n\nLearn how to create a basic resume in WorkInTexas\, so that by the end of the workshop you will be able to print out your completed resume. Must be pre-registered in WorkInTexas.com.\n\nVer próximos talleres de Español \nRegister Here
URL:https://wfscapitalarea.com/event/learn-workintexas/2025-09-11/
LOCATION:Virtual\, USA
CATEGORIES:Career Workshops
ATTACH;FMTTYPE=image/jpeg:https://wfscapitalarea.com/wp-content/uploads/2026/03/wfs-logo-featured-image-gold.jpg
ORGANIZER;CN="Workforce Solutions Capital Area":MAILTO:info@wfscapitalarea.com
END:VEVENT
BEGIN:VEVENT
DTSTART;TZID=America/Chicago:20250911T150000
DTEND;TZID=America/Chicago:20250911T163000
DTSTAMP:20260423T170556
CREATED:20260319T220145Z
LAST-MODIFIED:20260422T194226Z
UID:10005944-1757602800-1757608200@wfscapitalarea.com
SUMMARY:Interviewing Tips
DESCRIPTION:Join us for tips on how to make a great impression and increase your chances of being hired! \nA virtual workshop hosted every other Thursday. This event is open to the public and held on Zoom. \nRegister Here
URL:https://wfscapitalarea.com/event/interviewing-tips/2025-09-11/
LOCATION:Virtual\, USA
CATEGORIES:Career Workshops
ATTACH;FMTTYPE=image/webp:https://wfscapitalarea.com/wp-content/uploads/2026/03/wfs-apprenticeships-job-seekers.webp
ORGANIZER;CN="Workforce Solutions Capital Area":MAILTO:info@wfscapitalarea.com
END:VEVENT
BEGIN:VEVENT
DTSTART;TZID=America/Chicago:20250915T090000
DTEND;TZID=America/Chicago:20250915T120000
DTSTAMP:20260423T170556
CREATED:20260319T220145Z
LAST-MODIFIED:20260413T192930Z
UID:10003763-1757926800-1757937600@wfscapitalarea.com
SUMMARY:Career MAPS Day 1/4: Measure and Meaning
DESCRIPTION:strong>Let’s talk about career exploration. \nMeasure and Meaning is about participants measuring various aspects related to their personal situation\, career skills\, and self-exploration of values\, interests\, and abilities. \nThis is the first of four days of Career MAPS. Register for Day 2 here. \nRegister Here
URL:https://wfscapitalarea.com/event/career-maps-day-1-4-measure-and-meaning/2025-09-15/
LOCATION:Virtual\, USA
CATEGORIES:Career Workshops
ATTACH;FMTTYPE=image/jpeg:https://wfscapitalarea.com/wp-content/uploads/2026/03/wfs-logo-featured-image-blue.jpg
ORGANIZER;CN="Workforce Solutions Capital Area":MAILTO:info@wfscapitalarea.com
END:VEVENT
BEGIN:VEVENT
DTSTART;TZID=America/Chicago:20250916T130000
DTEND;TZID=America/Chicago:20250916T143000
DTSTAMP:20260423T170556
CREATED:20260319T220145Z
LAST-MODIFIED:20260413T200022Z
UID:10004027-1758027600-1758033000@wfscapitalarea.com
SUMMARY:Learn WorkInTexas
DESCRIPTION:Join us for a brief overview of work registration and resume building in WorkInTexas.com\, the state’s job searching website. \nWe’ll provide a basic training to gain the most out of the WorkInTexas website. \n\nLearn how to create a basic resume in WorkInTexas\, so that by the end of the workshop you will be able to print out your completed resume. Must be pre-registered in WorkInTexas.com.\n\nVer próximos talleres de Español \nRegister Here
URL:https://wfscapitalarea.com/event/learn-workintexas/2025-09-16/
LOCATION:Virtual\, USA
CATEGORIES:Career Workshops
ATTACH;FMTTYPE=image/jpeg:https://wfscapitalarea.com/wp-content/uploads/2026/03/wfs-logo-featured-image-gold.jpg
ORGANIZER;CN="Workforce Solutions Capital Area":MAILTO:info@wfscapitalarea.com
END:VEVENT
BEGIN:VEVENT
DTSTART;TZID=America/Chicago:20250916T150000
DTEND;TZID=America/Chicago:20250916T170000
DTSTAMP:20260423T170556
CREATED:20260319T220144Z
LAST-MODIFIED:20260413T193001Z
UID:10004824-1758034800-1758042000@wfscapitalarea.com
SUMMARY:Career MAPS Day 2/4: Attitude and Altitude
DESCRIPTION:This is the second of four days for Career MAPS. \nAttitude and Altitude is about exploring communication skills\, interpersonal relations\, and other areas of the self that tend to get in the way of individual success. These activities include the forgotten skill of good and effective listening which is paramount for success. Other module topics include time management\, stress management\, and diversity and ethics. Good Customer Service is a facet of every employment situation and is one of the modules included on day two. \nRegister for Day 3 here. \nRegister Here
URL:https://wfscapitalarea.com/event/career-maps-day-2-4-attitude-and-altitude/2025-09-16/
LOCATION:Virtual\, USA
CATEGORIES:Career Workshops
ATTACH;FMTTYPE=image/jpeg:https://wfscapitalarea.com/wp-content/uploads/2026/03/wfs-logo-featured-image-blue.jpg
ORGANIZER;CN="Workforce Solutions Capital Area":MAILTO:info@wfscapitalarea.com
END:VEVENT
BEGIN:VEVENT
DTSTART;TZID=America/Chicago:20250917T130000
DTEND;TZID=America/Chicago:20250917T150000
DTSTAMP:20260423T170556
CREATED:20260319T215947Z
LAST-MODIFIED:20260413T193036Z
UID:10005055-1758114000-1758121200@wfscapitalarea.com
SUMMARY:Career MAPS Day 3/4: Purposes and Patterns
DESCRIPTION:This is the third of four days for Career MAPS. \nPurpose and Patterns are the themes of the day with sessions that cover Labor Market Information\, understanding the data and what it means to the participant job seeker as well as workforce trends\, career planning\, career exploration\, and a mock interview to help participants hone their interview skills. \nRegister for Day 4 here. \nRegister Here
URL:https://wfscapitalarea.com/event/career-maps-day-3-4-purposes-and-patterns/2025-09-17/
LOCATION:Virtual\, USA
CATEGORIES:Career Workshops
ATTACH;FMTTYPE=image/jpeg:https://wfscapitalarea.com/wp-content/uploads/2026/03/wfs-logo-featured-image-blue.jpg
ORGANIZER;CN="Workforce Solutions Capital Area":MAILTO:info@wfscapitalarea.com
END:VEVENT
BEGIN:VEVENT
DTSTART;TZID=America/Chicago:20250918T130000
DTEND;TZID=America/Chicago:20250918T143000
DTSTAMP:20260423T170556
CREATED:20260319T220145Z
LAST-MODIFIED:20260413T200022Z
UID:10004028-1758200400-1758205800@wfscapitalarea.com
SUMMARY:Learn WorkInTexas
DESCRIPTION:Join us for a brief overview of work registration and resume building in WorkInTexas.com\, the state’s job searching website. \nWe’ll provide a basic training to gain the most out of the WorkInTexas website. \n\nLearn how to create a basic resume in WorkInTexas\, so that by the end of the workshop you will be able to print out your completed resume. Must be pre-registered in WorkInTexas.com.\n\nVer próximos talleres de Español \nRegister Here
URL:https://wfscapitalarea.com/event/learn-workintexas/2025-09-18/
LOCATION:Virtual\, USA
CATEGORIES:Career Workshops
ATTACH;FMTTYPE=image/jpeg:https://wfscapitalarea.com/wp-content/uploads/2026/03/wfs-logo-featured-image-gold.jpg
ORGANIZER;CN="Workforce Solutions Capital Area":MAILTO:info@wfscapitalarea.com
END:VEVENT
BEGIN:VEVENT
DTSTART;TZID=America/Chicago:20250919T140000
DTEND;TZID=America/Chicago:20250919T163000
DTSTAMP:20260423T170556
CREATED:20260319T215947Z
LAST-MODIFIED:20260413T193048Z
UID:10005286-1758290400-1758299400@wfscapitalarea.com
SUMMARY:Career MAPS Day 4/4: Sources and Success
DESCRIPTION:This is the fourth and final day of Career MAPS. \nSources and Success top out our final day with modules that focus on creating a personal brand through marketing\, modern resume and cover letter\, and the very necessary networking skills. By the end of the day\, participants will have all the tools needed to secure the career aspirations they have set their intentions forward to attain with an action plan to help them follow through. \nRegister Here
URL:https://wfscapitalarea.com/event/career-maps-day-4-4-sources-and-success/2025-09-19/
LOCATION:Virtual\, USA
CATEGORIES:Career Workshops
ATTACH;FMTTYPE=image/jpeg:https://wfscapitalarea.com/wp-content/uploads/2026/03/wfs-logo-featured-image-blue.jpg
ORGANIZER;CN="Workforce Solutions Capital Area":MAILTO:info@wfscapitalarea.com
END:VEVENT
BEGIN:VEVENT
DTSTART;TZID=America/Chicago:20250922T130000
DTEND;TZID=America/Chicago:20250922T150000
DTSTAMP:20260423T170556
CREATED:20260413T200538Z
LAST-MODIFIED:20260413T200706Z
UID:10005462-1758546000-1758553200@wfscapitalarea.com
SUMMARY:Overcoming Barriers to Employment
DESCRIPTION:Feel stuck in your job search? Does it seem like there are just too many hurdles to finding your next career? \nWe can help! Join us virtually for a workshop on overcoming barriers to employment. \nRegister Here
URL:https://wfscapitalarea.com/event/overcoming-barriers-to-employment/2025-09-22/
LOCATION:Virtual\, USA
CATEGORIES:Career Workshops
ATTACH;FMTTYPE=image/jpeg:https://wfscapitalarea.com/wp-content/uploads/2026/03/wfs-logo-featured-image-gold.jpg
ORGANIZER;CN="Workforce Solutions Capital Area":MAILTO:info@wfscapitalarea.com
END:VEVENT
BEGIN:VEVENT
DTSTART;TZID=America/Chicago:20250923T103000
DTEND;TZID=America/Chicago:20250923T120000
DTSTAMP:20260423T170556
CREATED:20260319T220145Z
LAST-MODIFIED:20260413T201248Z
UID:10005703-1758623400-1758628800@wfscapitalarea.com
SUMMARY:Resume Writing
DESCRIPTION:Learn how to do a basic resume in WorkInTexas so that by the end of the class you will be able to print out your completed resume. \nWe will give a brief overview of work registration and resume building in WorkInTexas.com. Take this basic training to get the most out of the WorkInTexas website. \nMust be pre-registered in WorkinTexas. \nRegister Here
URL:https://wfscapitalarea.com/event/resume-writing/2025-09-23/
LOCATION:Virtual\, USA
CATEGORIES:Career Workshops
ATTACH;FMTTYPE=image/jpeg:https://wfscapitalarea.com/wp-content/uploads/2026/03/wfs-logo-featured-image-blue.jpg
ORGANIZER;CN="Workforce Solutions Capital Area":MAILTO:info@wfscapitalarea.com
END:VEVENT
BEGIN:VEVENT
DTSTART;TZID=America/Chicago:20250923T130000
DTEND;TZID=America/Chicago:20250923T143000
DTSTAMP:20260423T170556
CREATED:20260319T220145Z
LAST-MODIFIED:20260413T200022Z
UID:10004029-1758632400-1758637800@wfscapitalarea.com
SUMMARY:Learn WorkInTexas
DESCRIPTION:Join us for a brief overview of work registration and resume building in WorkInTexas.com\, the state’s job searching website. \nWe’ll provide a basic training to gain the most out of the WorkInTexas website. \n\nLearn how to create a basic resume in WorkInTexas\, so that by the end of the workshop you will be able to print out your completed resume. Must be pre-registered in WorkInTexas.com.\n\nVer próximos talleres de Español \nRegister Here
URL:https://wfscapitalarea.com/event/learn-workintexas/2025-09-23/
LOCATION:Virtual\, USA
CATEGORIES:Career Workshops
ATTACH;FMTTYPE=image/jpeg:https://wfscapitalarea.com/wp-content/uploads/2026/03/wfs-logo-featured-image-gold.jpg
ORGANIZER;CN="Workforce Solutions Capital Area":MAILTO:info@wfscapitalarea.com
END:VEVENT
BEGIN:VEVENT
DTSTART;TZID=America/Chicago:20250925T130000
DTEND;TZID=America/Chicago:20250925T143000
DTSTAMP:20260423T170556
CREATED:20260319T220145Z
LAST-MODIFIED:20260413T200022Z
UID:10004030-1758805200-1758810600@wfscapitalarea.com
SUMMARY:Learn WorkInTexas
DESCRIPTION:Join us for a brief overview of work registration and resume building in WorkInTexas.com\, the state’s job searching website. \nWe’ll provide a basic training to gain the most out of the WorkInTexas website. \n\nLearn how to create a basic resume in WorkInTexas\, so that by the end of the workshop you will be able to print out your completed resume. Must be pre-registered in WorkInTexas.com.\n\nVer próximos talleres de Español \nRegister Here
URL:https://wfscapitalarea.com/event/learn-workintexas/2025-09-25/
LOCATION:Virtual\, USA
CATEGORIES:Career Workshops
ATTACH;FMTTYPE=image/jpeg:https://wfscapitalarea.com/wp-content/uploads/2026/03/wfs-logo-featured-image-gold.jpg
ORGANIZER;CN="Workforce Solutions Capital Area":MAILTO:info@wfscapitalarea.com
END:VEVENT
BEGIN:VEVENT
DTSTART;TZID=America/Chicago:20250925T150000
DTEND;TZID=America/Chicago:20250925T163000
DTSTAMP:20260423T170556
CREATED:20260319T220145Z
LAST-MODIFIED:20260422T194226Z
UID:10005945-1758812400-1758817800@wfscapitalarea.com
SUMMARY:Interviewing Tips
DESCRIPTION:Join us for tips on how to make a great impression and increase your chances of being hired! \nA virtual workshop hosted every other Thursday. This event is open to the public and held on Zoom. \nRegister Here
URL:https://wfscapitalarea.com/event/interviewing-tips/2025-09-25/
LOCATION:Virtual\, USA
CATEGORIES:Career Workshops
ATTACH;FMTTYPE=image/webp:https://wfscapitalarea.com/wp-content/uploads/2026/03/wfs-apprenticeships-job-seekers.webp
ORGANIZER;CN="Workforce Solutions Capital Area":MAILTO:info@wfscapitalarea.com
END:VEVENT
BEGIN:VEVENT
DTSTART;TZID=America/Chicago:20250929T090000
DTEND;TZID=America/Chicago:20250929T120000
DTSTAMP:20260423T170556
CREATED:20260319T220145Z
LAST-MODIFIED:20260413T192930Z
UID:10003764-1759136400-1759147200@wfscapitalarea.com
SUMMARY:Career MAPS Day 1/4: Measure and Meaning
DESCRIPTION:strong>Let’s talk about career exploration. \nMeasure and Meaning is about participants measuring various aspects related to their personal situation\, career skills\, and self-exploration of values\, interests\, and abilities. \nThis is the first of four days of Career MAPS. Register for Day 2 here. \nRegister Here
URL:https://wfscapitalarea.com/event/career-maps-day-1-4-measure-and-meaning/2025-09-29/
LOCATION:Virtual\, USA
CATEGORIES:Career Workshops
ATTACH;FMTTYPE=image/jpeg:https://wfscapitalarea.com/wp-content/uploads/2026/03/wfs-logo-featured-image-blue.jpg
ORGANIZER;CN="Workforce Solutions Capital Area":MAILTO:info@wfscapitalarea.com
END:VEVENT
BEGIN:VEVENT
DTSTART;TZID=America/Chicago:20250930T130000
DTEND;TZID=America/Chicago:20250930T143000
DTSTAMP:20260423T170556
CREATED:20260319T220145Z
LAST-MODIFIED:20260413T200022Z
UID:10004031-1759237200-1759242600@wfscapitalarea.com
SUMMARY:Learn WorkInTexas
DESCRIPTION:Join us for a brief overview of work registration and resume building in WorkInTexas.com\, the state’s job searching website. \nWe’ll provide a basic training to gain the most out of the WorkInTexas website. \n\nLearn how to create a basic resume in WorkInTexas\, so that by the end of the workshop you will be able to print out your completed resume. Must be pre-registered in WorkInTexas.com.\n\nVer próximos talleres de Español \nRegister Here
URL:https://wfscapitalarea.com/event/learn-workintexas/2025-09-30/
LOCATION:Virtual\, USA
CATEGORIES:Career Workshops
ATTACH;FMTTYPE=image/jpeg:https://wfscapitalarea.com/wp-content/uploads/2026/03/wfs-logo-featured-image-gold.jpg
ORGANIZER;CN="Workforce Solutions Capital Area":MAILTO:info@wfscapitalarea.com
END:VEVENT
BEGIN:VEVENT
DTSTART;TZID=America/Chicago:20250930T150000
DTEND;TZID=America/Chicago:20250930T170000
DTSTAMP:20260423T170556
CREATED:20260319T220144Z
LAST-MODIFIED:20260413T193001Z
UID:10004825-1759244400-1759251600@wfscapitalarea.com
SUMMARY:Career MAPS Day 2/4: Attitude and Altitude
DESCRIPTION:This is the second of four days for Career MAPS. \nAttitude and Altitude is about exploring communication skills\, interpersonal relations\, and other areas of the self that tend to get in the way of individual success. These activities include the forgotten skill of good and effective listening which is paramount for success. Other module topics include time management\, stress management\, and diversity and ethics. Good Customer Service is a facet of every employment situation and is one of the modules included on day two. \nRegister for Day 3 here. \nRegister Here
URL:https://wfscapitalarea.com/event/career-maps-day-2-4-attitude-and-altitude/2025-09-30/
LOCATION:Virtual\, USA
CATEGORIES:Career Workshops
ATTACH;FMTTYPE=image/jpeg:https://wfscapitalarea.com/wp-content/uploads/2026/03/wfs-logo-featured-image-blue.jpg
ORGANIZER;CN="Workforce Solutions Capital Area":MAILTO:info@wfscapitalarea.com
END:VEVENT
END:VCALENDAR