BEGIN:VCALENDAR
VERSION:2.0
PRODID:-//Workforce Solutions Capital Area - ECPv6.15.20//NONSGML v1.0//EN
CALSCALE:GREGORIAN
METHOD:PUBLISH
X-WR-CALNAME:Workforce Solutions Capital Area
X-ORIGINAL-URL:https://wfscapitalarea.com
X-WR-CALDESC:Events for Workforce Solutions Capital Area
REFRESH-INTERVAL;VALUE=DURATION:PT1H
X-Robots-Tag:noindex
X-PUBLISHED-TTL:PT1H
BEGIN:VTIMEZONE
TZID:America/Chicago
BEGIN:DAYLIGHT
TZOFFSETFROM:-0600
TZOFFSETTO:-0500
TZNAME:CDT
DTSTART:20240310T080000
END:DAYLIGHT
BEGIN:STANDARD
TZOFFSETFROM:-0500
TZOFFSETTO:-0600
TZNAME:CST
DTSTART:20241103T070000
END:STANDARD
BEGIN:DAYLIGHT
TZOFFSETFROM:-0600
TZOFFSETTO:-0500
TZNAME:CDT
DTSTART:20250309T080000
END:DAYLIGHT
BEGIN:STANDARD
TZOFFSETFROM:-0500
TZOFFSETTO:-0600
TZNAME:CST
DTSTART:20251102T070000
END:STANDARD
BEGIN:DAYLIGHT
TZOFFSETFROM:-0600
TZOFFSETTO:-0500
TZNAME:CDT
DTSTART:20260308T080000
END:DAYLIGHT
BEGIN:STANDARD
TZOFFSETFROM:-0500
TZOFFSETTO:-0600
TZNAME:CST
DTSTART:20261101T070000
END:STANDARD
END:VTIMEZONE
BEGIN:VEVENT
DTSTART;TZID=America/Chicago:20250701T103000
DTEND;TZID=America/Chicago:20250701T120000
DTSTAMP:20260423T220715
CREATED:20260319T220145Z
LAST-MODIFIED:20260413T201248Z
UID:10005697-1751365800-1751371200@wfscapitalarea.com
SUMMARY:Resume Writing
DESCRIPTION:Learn how to do a basic resume in WorkInTexas so that by the end of the class you will be able to print out your completed resume. \nWe will give a brief overview of work registration and resume building in WorkInTexas.com. Take this basic training to get the most out of the WorkInTexas website. \nMust be pre-registered in WorkinTexas. \nRegister Here
URL:https://wfscapitalarea.com/event/resume-writing/2025-07-01/
LOCATION:Virtual\, USA
CATEGORIES:Career Workshops
ATTACH;FMTTYPE=image/jpeg:https://wfscapitalarea.com/wp-content/uploads/2026/03/wfs-logo-featured-image-blue.jpg
ORGANIZER;CN="Workforce Solutions Capital Area":MAILTO:info@wfscapitalarea.com
END:VEVENT
BEGIN:VEVENT
DTSTART;TZID=America/Chicago:20250701T130000
DTEND;TZID=America/Chicago:20250701T143000
DTSTAMP:20260423T220715
CREATED:20260319T220145Z
LAST-MODIFIED:20260413T200022Z
UID:10004005-1751374800-1751380200@wfscapitalarea.com
SUMMARY:Learn WorkInTexas
DESCRIPTION:Join us for a brief overview of work registration and resume building in WorkInTexas.com\, the state’s job searching website. \nWe’ll provide a basic training to gain the most out of the WorkInTexas website. \n\nLearn how to create a basic resume in WorkInTexas\, so that by the end of the workshop you will be able to print out your completed resume. Must be pre-registered in WorkInTexas.com.\n\nVer próximos talleres de Español \nRegister Here
URL:https://wfscapitalarea.com/event/learn-workintexas/2025-07-01/
LOCATION:Virtual\, USA
CATEGORIES:Career Workshops
ATTACH;FMTTYPE=image/jpeg:https://wfscapitalarea.com/wp-content/uploads/2026/03/wfs-logo-featured-image-gold.jpg
ORGANIZER;CN="Workforce Solutions Capital Area":MAILTO:info@wfscapitalarea.com
END:VEVENT
BEGIN:VEVENT
DTSTART;TZID=America/Chicago:20250703T130000
DTEND;TZID=America/Chicago:20250703T143000
DTSTAMP:20260423T220715
CREATED:20260319T220145Z
LAST-MODIFIED:20260413T200022Z
UID:10004006-1751547600-1751553000@wfscapitalarea.com
SUMMARY:Learn WorkInTexas
DESCRIPTION:Join us for a brief overview of work registration and resume building in WorkInTexas.com\, the state’s job searching website. \nWe’ll provide a basic training to gain the most out of the WorkInTexas website. \n\nLearn how to create a basic resume in WorkInTexas\, so that by the end of the workshop you will be able to print out your completed resume. Must be pre-registered in WorkInTexas.com.\n\nVer próximos talleres de Español \nRegister Here
URL:https://wfscapitalarea.com/event/learn-workintexas/2025-07-03/
LOCATION:Virtual\, USA
CATEGORIES:Career Workshops
ATTACH;FMTTYPE=image/jpeg:https://wfscapitalarea.com/wp-content/uploads/2026/03/wfs-logo-featured-image-gold.jpg
ORGANIZER;CN="Workforce Solutions Capital Area":MAILTO:info@wfscapitalarea.com
END:VEVENT
BEGIN:VEVENT
DTSTART;TZID=America/Chicago:20250703T150000
DTEND;TZID=America/Chicago:20250703T163000
DTSTAMP:20260423T220715
CREATED:20260319T220145Z
LAST-MODIFIED:20260422T194226Z
UID:10005939-1751554800-1751560200@wfscapitalarea.com
SUMMARY:Interviewing Tips
DESCRIPTION:Join us for tips on how to make a great impression and increase your chances of being hired! \nA virtual workshop hosted every other Thursday. This event is open to the public and held on Zoom. \nRegister Here
URL:https://wfscapitalarea.com/event/interviewing-tips/2025-07-03/
LOCATION:Virtual\, USA
CATEGORIES:Career Workshops
ATTACH;FMTTYPE=image/webp:https://wfscapitalarea.com/wp-content/uploads/2026/03/wfs-apprenticeships-job-seekers.webp
ORGANIZER;CN="Workforce Solutions Capital Area":MAILTO:info@wfscapitalarea.com
END:VEVENT
BEGIN:VEVENT
DTSTART;TZID=America/Chicago:20250707T090000
DTEND;TZID=America/Chicago:20250707T120000
DTSTAMP:20260423T220715
CREATED:20260319T220145Z
LAST-MODIFIED:20260413T192930Z
UID:10003758-1751878800-1751889600@wfscapitalarea.com
SUMMARY:Career MAPS Day 1/4: Measure and Meaning
DESCRIPTION:strong>Let’s talk about career exploration. \nMeasure and Meaning is about participants measuring various aspects related to their personal situation\, career skills\, and self-exploration of values\, interests\, and abilities. \nThis is the first of four days of Career MAPS. Register for Day 2 here. \nRegister Here
URL:https://wfscapitalarea.com/event/career-maps-day-1-4-measure-and-meaning/2025-07-07/
LOCATION:Virtual\, USA
CATEGORIES:Career Workshops
ATTACH;FMTTYPE=image/jpeg:https://wfscapitalarea.com/wp-content/uploads/2026/03/wfs-logo-featured-image-blue.jpg
ORGANIZER;CN="Workforce Solutions Capital Area":MAILTO:info@wfscapitalarea.com
END:VEVENT
BEGIN:VEVENT
DTSTART;TZID=America/Chicago:20250708T130000
DTEND;TZID=America/Chicago:20250708T143000
DTSTAMP:20260423T220715
CREATED:20260319T220145Z
LAST-MODIFIED:20260413T200022Z
UID:10004007-1751979600-1751985000@wfscapitalarea.com
SUMMARY:Learn WorkInTexas
DESCRIPTION:Join us for a brief overview of work registration and resume building in WorkInTexas.com\, the state’s job searching website. \nWe’ll provide a basic training to gain the most out of the WorkInTexas website. \n\nLearn how to create a basic resume in WorkInTexas\, so that by the end of the workshop you will be able to print out your completed resume. Must be pre-registered in WorkInTexas.com.\n\nVer próximos talleres de Español \nRegister Here
URL:https://wfscapitalarea.com/event/learn-workintexas/2025-07-08/
LOCATION:Virtual\, USA
CATEGORIES:Career Workshops
ATTACH;FMTTYPE=image/jpeg:https://wfscapitalarea.com/wp-content/uploads/2026/03/wfs-logo-featured-image-gold.jpg
ORGANIZER;CN="Workforce Solutions Capital Area":MAILTO:info@wfscapitalarea.com
END:VEVENT
BEGIN:VEVENT
DTSTART;TZID=America/Chicago:20250708T150000
DTEND;TZID=America/Chicago:20250708T170000
DTSTAMP:20260423T220715
CREATED:20260319T220144Z
LAST-MODIFIED:20260413T193001Z
UID:10004819-1751986800-1751994000@wfscapitalarea.com
SUMMARY:Career MAPS Day 2/4: Attitude and Altitude
DESCRIPTION:This is the second of four days for Career MAPS. \nAttitude and Altitude is about exploring communication skills\, interpersonal relations\, and other areas of the self that tend to get in the way of individual success. These activities include the forgotten skill of good and effective listening which is paramount for success. Other module topics include time management\, stress management\, and diversity and ethics. Good Customer Service is a facet of every employment situation and is one of the modules included on day two. \nRegister for Day 3 here. \nRegister Here
URL:https://wfscapitalarea.com/event/career-maps-day-2-4-attitude-and-altitude/2025-07-08/
LOCATION:Virtual\, USA
CATEGORIES:Career Workshops
ATTACH;FMTTYPE=image/jpeg:https://wfscapitalarea.com/wp-content/uploads/2026/03/wfs-logo-featured-image-blue.jpg
ORGANIZER;CN="Workforce Solutions Capital Area":MAILTO:info@wfscapitalarea.com
END:VEVENT
BEGIN:VEVENT
DTSTART;TZID=America/Chicago:20250709T130000
DTEND;TZID=America/Chicago:20250709T150000
DTSTAMP:20260423T220715
CREATED:20260319T215947Z
LAST-MODIFIED:20260413T193036Z
UID:10005050-1752066000-1752073200@wfscapitalarea.com
SUMMARY:Career MAPS Day 3/4: Purposes and Patterns
DESCRIPTION:This is the third of four days for Career MAPS. \nPurpose and Patterns are the themes of the day with sessions that cover Labor Market Information\, understanding the data and what it means to the participant job seeker as well as workforce trends\, career planning\, career exploration\, and a mock interview to help participants hone their interview skills. \nRegister for Day 4 here. \nRegister Here
URL:https://wfscapitalarea.com/event/career-maps-day-3-4-purposes-and-patterns/2025-07-09/
LOCATION:Virtual\, USA
CATEGORIES:Career Workshops
ATTACH;FMTTYPE=image/jpeg:https://wfscapitalarea.com/wp-content/uploads/2026/03/wfs-logo-featured-image-blue.jpg
ORGANIZER;CN="Workforce Solutions Capital Area":MAILTO:info@wfscapitalarea.com
END:VEVENT
BEGIN:VEVENT
DTSTART;TZID=America/Chicago:20250710T130000
DTEND;TZID=America/Chicago:20250710T143000
DTSTAMP:20260423T220715
CREATED:20260319T220145Z
LAST-MODIFIED:20260413T200022Z
UID:10004008-1752152400-1752157800@wfscapitalarea.com
SUMMARY:Learn WorkInTexas
DESCRIPTION:Join us for a brief overview of work registration and resume building in WorkInTexas.com\, the state’s job searching website. \nWe’ll provide a basic training to gain the most out of the WorkInTexas website. \n\nLearn how to create a basic resume in WorkInTexas\, so that by the end of the workshop you will be able to print out your completed resume. Must be pre-registered in WorkInTexas.com.\n\nVer próximos talleres de Español \nRegister Here
URL:https://wfscapitalarea.com/event/learn-workintexas/2025-07-10/
LOCATION:Virtual\, USA
CATEGORIES:Career Workshops
ATTACH;FMTTYPE=image/jpeg:https://wfscapitalarea.com/wp-content/uploads/2026/03/wfs-logo-featured-image-gold.jpg
ORGANIZER;CN="Workforce Solutions Capital Area":MAILTO:info@wfscapitalarea.com
END:VEVENT
BEGIN:VEVENT
DTSTART;TZID=America/Chicago:20250711T140000
DTEND;TZID=America/Chicago:20250711T163000
DTSTAMP:20260423T220715
CREATED:20260319T215947Z
LAST-MODIFIED:20260413T193048Z
UID:10005281-1752242400-1752251400@wfscapitalarea.com
SUMMARY:Career MAPS Day 4/4: Sources and Success
DESCRIPTION:This is the fourth and final day of Career MAPS. \nSources and Success top out our final day with modules that focus on creating a personal brand through marketing\, modern resume and cover letter\, and the very necessary networking skills. By the end of the day\, participants will have all the tools needed to secure the career aspirations they have set their intentions forward to attain with an action plan to help them follow through. \nRegister Here
URL:https://wfscapitalarea.com/event/career-maps-day-4-4-sources-and-success/2025-07-11/
LOCATION:Virtual\, USA
CATEGORIES:Career Workshops
ATTACH;FMTTYPE=image/jpeg:https://wfscapitalarea.com/wp-content/uploads/2026/03/wfs-logo-featured-image-blue.jpg
ORGANIZER;CN="Workforce Solutions Capital Area":MAILTO:info@wfscapitalarea.com
END:VEVENT
BEGIN:VEVENT
DTSTART;TZID=America/Chicago:20250714T130000
DTEND;TZID=America/Chicago:20250714T150000
DTSTAMP:20260423T220715
CREATED:20260413T200538Z
LAST-MODIFIED:20260413T200706Z
UID:10005457-1752498000-1752505200@wfscapitalarea.com
SUMMARY:Overcoming Barriers to Employment
DESCRIPTION:Feel stuck in your job search? Does it seem like there are just too many hurdles to finding your next career? \nWe can help! Join us virtually for a workshop on overcoming barriers to employment. \nRegister Here
URL:https://wfscapitalarea.com/event/overcoming-barriers-to-employment/2025-07-14/
LOCATION:Virtual\, USA
CATEGORIES:Career Workshops
ATTACH;FMTTYPE=image/jpeg:https://wfscapitalarea.com/wp-content/uploads/2026/03/wfs-logo-featured-image-gold.jpg
ORGANIZER;CN="Workforce Solutions Capital Area":MAILTO:info@wfscapitalarea.com
END:VEVENT
BEGIN:VEVENT
DTSTART;TZID=America/Chicago:20250715T103000
DTEND;TZID=America/Chicago:20250715T120000
DTSTAMP:20260423T220715
CREATED:20260319T220145Z
LAST-MODIFIED:20260413T201248Z
UID:10005698-1752575400-1752580800@wfscapitalarea.com
SUMMARY:Resume Writing
DESCRIPTION:Learn how to do a basic resume in WorkInTexas so that by the end of the class you will be able to print out your completed resume. \nWe will give a brief overview of work registration and resume building in WorkInTexas.com. Take this basic training to get the most out of the WorkInTexas website. \nMust be pre-registered in WorkinTexas. \nRegister Here
URL:https://wfscapitalarea.com/event/resume-writing/2025-07-15/
LOCATION:Virtual\, USA
CATEGORIES:Career Workshops
ATTACH;FMTTYPE=image/jpeg:https://wfscapitalarea.com/wp-content/uploads/2026/03/wfs-logo-featured-image-blue.jpg
ORGANIZER;CN="Workforce Solutions Capital Area":MAILTO:info@wfscapitalarea.com
END:VEVENT
BEGIN:VEVENT
DTSTART;TZID=America/Chicago:20250715T130000
DTEND;TZID=America/Chicago:20250715T143000
DTSTAMP:20260423T220715
CREATED:20260319T220145Z
LAST-MODIFIED:20260413T200022Z
UID:10004009-1752584400-1752589800@wfscapitalarea.com
SUMMARY:Learn WorkInTexas
DESCRIPTION:Join us for a brief overview of work registration and resume building in WorkInTexas.com\, the state’s job searching website. \nWe’ll provide a basic training to gain the most out of the WorkInTexas website. \n\nLearn how to create a basic resume in WorkInTexas\, so that by the end of the workshop you will be able to print out your completed resume. Must be pre-registered in WorkInTexas.com.\n\nVer próximos talleres de Español \nRegister Here
URL:https://wfscapitalarea.com/event/learn-workintexas/2025-07-15/
LOCATION:Virtual\, USA
CATEGORIES:Career Workshops
ATTACH;FMTTYPE=image/jpeg:https://wfscapitalarea.com/wp-content/uploads/2026/03/wfs-logo-featured-image-gold.jpg
ORGANIZER;CN="Workforce Solutions Capital Area":MAILTO:info@wfscapitalarea.com
END:VEVENT
BEGIN:VEVENT
DTSTART;TZID=America/Chicago:20250717T130000
DTEND;TZID=America/Chicago:20250717T143000
DTSTAMP:20260423T220715
CREATED:20260319T220145Z
LAST-MODIFIED:20260413T200022Z
UID:10004010-1752757200-1752762600@wfscapitalarea.com
SUMMARY:Learn WorkInTexas
DESCRIPTION:Join us for a brief overview of work registration and resume building in WorkInTexas.com\, the state’s job searching website. \nWe’ll provide a basic training to gain the most out of the WorkInTexas website. \n\nLearn how to create a basic resume in WorkInTexas\, so that by the end of the workshop you will be able to print out your completed resume. Must be pre-registered in WorkInTexas.com.\n\nVer próximos talleres de Español \nRegister Here
URL:https://wfscapitalarea.com/event/learn-workintexas/2025-07-17/
LOCATION:Virtual\, USA
CATEGORIES:Career Workshops
ATTACH;FMTTYPE=image/jpeg:https://wfscapitalarea.com/wp-content/uploads/2026/03/wfs-logo-featured-image-gold.jpg
ORGANIZER;CN="Workforce Solutions Capital Area":MAILTO:info@wfscapitalarea.com
END:VEVENT
BEGIN:VEVENT
DTSTART;TZID=America/Chicago:20250717T150000
DTEND;TZID=America/Chicago:20250717T163000
DTSTAMP:20260423T220715
CREATED:20260319T220145Z
LAST-MODIFIED:20260422T194226Z
UID:10005940-1752764400-1752769800@wfscapitalarea.com
SUMMARY:Interviewing Tips
DESCRIPTION:Join us for tips on how to make a great impression and increase your chances of being hired! \nA virtual workshop hosted every other Thursday. This event is open to the public and held on Zoom. \nRegister Here
URL:https://wfscapitalarea.com/event/interviewing-tips/2025-07-17/
LOCATION:Virtual\, USA
CATEGORIES:Career Workshops
ATTACH;FMTTYPE=image/webp:https://wfscapitalarea.com/wp-content/uploads/2026/03/wfs-apprenticeships-job-seekers.webp
ORGANIZER;CN="Workforce Solutions Capital Area":MAILTO:info@wfscapitalarea.com
END:VEVENT
BEGIN:VEVENT
DTSTART;TZID=America/Chicago:20250721T090000
DTEND;TZID=America/Chicago:20250721T120000
DTSTAMP:20260423T220715
CREATED:20260319T220145Z
LAST-MODIFIED:20260413T192930Z
UID:10003759-1753088400-1753099200@wfscapitalarea.com
SUMMARY:Career MAPS Day 1/4: Measure and Meaning
DESCRIPTION:strong>Let’s talk about career exploration. \nMeasure and Meaning is about participants measuring various aspects related to their personal situation\, career skills\, and self-exploration of values\, interests\, and abilities. \nThis is the first of four days of Career MAPS. Register for Day 2 here. \nRegister Here
URL:https://wfscapitalarea.com/event/career-maps-day-1-4-measure-and-meaning/2025-07-21/
LOCATION:Virtual\, USA
CATEGORIES:Career Workshops
ATTACH;FMTTYPE=image/jpeg:https://wfscapitalarea.com/wp-content/uploads/2026/03/wfs-logo-featured-image-blue.jpg
ORGANIZER;CN="Workforce Solutions Capital Area":MAILTO:info@wfscapitalarea.com
END:VEVENT
BEGIN:VEVENT
DTSTART;TZID=America/Chicago:20250722T130000
DTEND;TZID=America/Chicago:20250722T143000
DTSTAMP:20260423T220715
CREATED:20260319T220145Z
LAST-MODIFIED:20260413T200022Z
UID:10004011-1753189200-1753194600@wfscapitalarea.com
SUMMARY:Learn WorkInTexas
DESCRIPTION:Join us for a brief overview of work registration and resume building in WorkInTexas.com\, the state’s job searching website. \nWe’ll provide a basic training to gain the most out of the WorkInTexas website. \n\nLearn how to create a basic resume in WorkInTexas\, so that by the end of the workshop you will be able to print out your completed resume. Must be pre-registered in WorkInTexas.com.\n\nVer próximos talleres de Español \nRegister Here
URL:https://wfscapitalarea.com/event/learn-workintexas/2025-07-22/
LOCATION:Virtual\, USA
CATEGORIES:Career Workshops
ATTACH;FMTTYPE=image/jpeg:https://wfscapitalarea.com/wp-content/uploads/2026/03/wfs-logo-featured-image-gold.jpg
ORGANIZER;CN="Workforce Solutions Capital Area":MAILTO:info@wfscapitalarea.com
END:VEVENT
BEGIN:VEVENT
DTSTART;TZID=America/Chicago:20250722T150000
DTEND;TZID=America/Chicago:20250722T170000
DTSTAMP:20260423T220715
CREATED:20260319T220144Z
LAST-MODIFIED:20260413T193001Z
UID:10004820-1753196400-1753203600@wfscapitalarea.com
SUMMARY:Career MAPS Day 2/4: Attitude and Altitude
DESCRIPTION:This is the second of four days for Career MAPS. \nAttitude and Altitude is about exploring communication skills\, interpersonal relations\, and other areas of the self that tend to get in the way of individual success. These activities include the forgotten skill of good and effective listening which is paramount for success. Other module topics include time management\, stress management\, and diversity and ethics. Good Customer Service is a facet of every employment situation and is one of the modules included on day two. \nRegister for Day 3 here. \nRegister Here
URL:https://wfscapitalarea.com/event/career-maps-day-2-4-attitude-and-altitude/2025-07-22/
LOCATION:Virtual\, USA
CATEGORIES:Career Workshops
ATTACH;FMTTYPE=image/jpeg:https://wfscapitalarea.com/wp-content/uploads/2026/03/wfs-logo-featured-image-blue.jpg
ORGANIZER;CN="Workforce Solutions Capital Area":MAILTO:info@wfscapitalarea.com
END:VEVENT
BEGIN:VEVENT
DTSTART;TZID=America/Chicago:20250723T130000
DTEND;TZID=America/Chicago:20250723T150000
DTSTAMP:20260423T220715
CREATED:20260319T215947Z
LAST-MODIFIED:20260413T193036Z
UID:10005051-1753275600-1753282800@wfscapitalarea.com
SUMMARY:Career MAPS Day 3/4: Purposes and Patterns
DESCRIPTION:This is the third of four days for Career MAPS. \nPurpose and Patterns are the themes of the day with sessions that cover Labor Market Information\, understanding the data and what it means to the participant job seeker as well as workforce trends\, career planning\, career exploration\, and a mock interview to help participants hone their interview skills. \nRegister for Day 4 here. \nRegister Here
URL:https://wfscapitalarea.com/event/career-maps-day-3-4-purposes-and-patterns/2025-07-23/
LOCATION:Virtual\, USA
CATEGORIES:Career Workshops
ATTACH;FMTTYPE=image/jpeg:https://wfscapitalarea.com/wp-content/uploads/2026/03/wfs-logo-featured-image-blue.jpg
ORGANIZER;CN="Workforce Solutions Capital Area":MAILTO:info@wfscapitalarea.com
END:VEVENT
BEGIN:VEVENT
DTSTART;TZID=America/Chicago:20250724T130000
DTEND;TZID=America/Chicago:20250724T143000
DTSTAMP:20260423T220715
CREATED:20260319T220145Z
LAST-MODIFIED:20260413T200022Z
UID:10004012-1753362000-1753367400@wfscapitalarea.com
SUMMARY:Learn WorkInTexas
DESCRIPTION:Join us for a brief overview of work registration and resume building in WorkInTexas.com\, the state’s job searching website. \nWe’ll provide a basic training to gain the most out of the WorkInTexas website. \n\nLearn how to create a basic resume in WorkInTexas\, so that by the end of the workshop you will be able to print out your completed resume. Must be pre-registered in WorkInTexas.com.\n\nVer próximos talleres de Español \nRegister Here
URL:https://wfscapitalarea.com/event/learn-workintexas/2025-07-24/
LOCATION:Virtual\, USA
CATEGORIES:Career Workshops
ATTACH;FMTTYPE=image/jpeg:https://wfscapitalarea.com/wp-content/uploads/2026/03/wfs-logo-featured-image-gold.jpg
ORGANIZER;CN="Workforce Solutions Capital Area":MAILTO:info@wfscapitalarea.com
END:VEVENT
BEGIN:VEVENT
DTSTART;TZID=America/Chicago:20250725T140000
DTEND;TZID=America/Chicago:20250725T163000
DTSTAMP:20260423T220715
CREATED:20260319T215947Z
LAST-MODIFIED:20260413T193048Z
UID:10005282-1753452000-1753461000@wfscapitalarea.com
SUMMARY:Career MAPS Day 4/4: Sources and Success
DESCRIPTION:This is the fourth and final day of Career MAPS. \nSources and Success top out our final day with modules that focus on creating a personal brand through marketing\, modern resume and cover letter\, and the very necessary networking skills. By the end of the day\, participants will have all the tools needed to secure the career aspirations they have set their intentions forward to attain with an action plan to help them follow through. \nRegister Here
URL:https://wfscapitalarea.com/event/career-maps-day-4-4-sources-and-success/2025-07-25/
LOCATION:Virtual\, USA
CATEGORIES:Career Workshops
ATTACH;FMTTYPE=image/jpeg:https://wfscapitalarea.com/wp-content/uploads/2026/03/wfs-logo-featured-image-blue.jpg
ORGANIZER;CN="Workforce Solutions Capital Area":MAILTO:info@wfscapitalarea.com
END:VEVENT
BEGIN:VEVENT
DTSTART;TZID=America/Chicago:20250728T130000
DTEND;TZID=America/Chicago:20250728T150000
DTSTAMP:20260423T220715
CREATED:20260413T200538Z
LAST-MODIFIED:20260413T200706Z
UID:10005458-1753707600-1753714800@wfscapitalarea.com
SUMMARY:Overcoming Barriers to Employment
DESCRIPTION:Feel stuck in your job search? Does it seem like there are just too many hurdles to finding your next career? \nWe can help! Join us virtually for a workshop on overcoming barriers to employment. \nRegister Here
URL:https://wfscapitalarea.com/event/overcoming-barriers-to-employment/2025-07-28/
LOCATION:Virtual\, USA
CATEGORIES:Career Workshops
ATTACH;FMTTYPE=image/jpeg:https://wfscapitalarea.com/wp-content/uploads/2026/03/wfs-logo-featured-image-gold.jpg
ORGANIZER;CN="Workforce Solutions Capital Area":MAILTO:info@wfscapitalarea.com
END:VEVENT
BEGIN:VEVENT
DTSTART;TZID=America/Chicago:20250729T103000
DTEND;TZID=America/Chicago:20250729T120000
DTSTAMP:20260423T220715
CREATED:20260319T220145Z
LAST-MODIFIED:20260413T201248Z
UID:10005699-1753785000-1753790400@wfscapitalarea.com
SUMMARY:Resume Writing
DESCRIPTION:Learn how to do a basic resume in WorkInTexas so that by the end of the class you will be able to print out your completed resume. \nWe will give a brief overview of work registration and resume building in WorkInTexas.com. Take this basic training to get the most out of the WorkInTexas website. \nMust be pre-registered in WorkinTexas. \nRegister Here
URL:https://wfscapitalarea.com/event/resume-writing/2025-07-29/
LOCATION:Virtual\, USA
CATEGORIES:Career Workshops
ATTACH;FMTTYPE=image/jpeg:https://wfscapitalarea.com/wp-content/uploads/2026/03/wfs-logo-featured-image-blue.jpg
ORGANIZER;CN="Workforce Solutions Capital Area":MAILTO:info@wfscapitalarea.com
END:VEVENT
BEGIN:VEVENT
DTSTART;TZID=America/Chicago:20250729T130000
DTEND;TZID=America/Chicago:20250729T143000
DTSTAMP:20260423T220715
CREATED:20260319T220145Z
LAST-MODIFIED:20260413T200022Z
UID:10004013-1753794000-1753799400@wfscapitalarea.com
SUMMARY:Learn WorkInTexas
DESCRIPTION:Join us for a brief overview of work registration and resume building in WorkInTexas.com\, the state’s job searching website. \nWe’ll provide a basic training to gain the most out of the WorkInTexas website. \n\nLearn how to create a basic resume in WorkInTexas\, so that by the end of the workshop you will be able to print out your completed resume. Must be pre-registered in WorkInTexas.com.\n\nVer próximos talleres de Español \nRegister Here
URL:https://wfscapitalarea.com/event/learn-workintexas/2025-07-29/
LOCATION:Virtual\, USA
CATEGORIES:Career Workshops
ATTACH;FMTTYPE=image/jpeg:https://wfscapitalarea.com/wp-content/uploads/2026/03/wfs-logo-featured-image-gold.jpg
ORGANIZER;CN="Workforce Solutions Capital Area":MAILTO:info@wfscapitalarea.com
END:VEVENT
BEGIN:VEVENT
DTSTART;TZID=America/Chicago:20250731T130000
DTEND;TZID=America/Chicago:20250731T143000
DTSTAMP:20260423T220715
CREATED:20260319T220145Z
LAST-MODIFIED:20260413T200022Z
UID:10004014-1753966800-1753972200@wfscapitalarea.com
SUMMARY:Learn WorkInTexas
DESCRIPTION:Join us for a brief overview of work registration and resume building in WorkInTexas.com\, the state’s job searching website. \nWe’ll provide a basic training to gain the most out of the WorkInTexas website. \n\nLearn how to create a basic resume in WorkInTexas\, so that by the end of the workshop you will be able to print out your completed resume. Must be pre-registered in WorkInTexas.com.\n\nVer próximos talleres de Español \nRegister Here
URL:https://wfscapitalarea.com/event/learn-workintexas/2025-07-31/
LOCATION:Virtual\, USA
CATEGORIES:Career Workshops
ATTACH;FMTTYPE=image/jpeg:https://wfscapitalarea.com/wp-content/uploads/2026/03/wfs-logo-featured-image-gold.jpg
ORGANIZER;CN="Workforce Solutions Capital Area":MAILTO:info@wfscapitalarea.com
END:VEVENT
BEGIN:VEVENT
DTSTART;TZID=America/Chicago:20250731T150000
DTEND;TZID=America/Chicago:20250731T163000
DTSTAMP:20260423T220715
CREATED:20260319T220145Z
LAST-MODIFIED:20260422T194226Z
UID:10005941-1753974000-1753979400@wfscapitalarea.com
SUMMARY:Interviewing Tips
DESCRIPTION:Join us for tips on how to make a great impression and increase your chances of being hired! \nA virtual workshop hosted every other Thursday. This event is open to the public and held on Zoom. \nRegister Here
URL:https://wfscapitalarea.com/event/interviewing-tips/2025-07-31/
LOCATION:Virtual\, USA
CATEGORIES:Career Workshops
ATTACH;FMTTYPE=image/webp:https://wfscapitalarea.com/wp-content/uploads/2026/03/wfs-apprenticeships-job-seekers.webp
ORGANIZER;CN="Workforce Solutions Capital Area":MAILTO:info@wfscapitalarea.com
END:VEVENT
END:VCALENDAR