BEGIN:VCALENDAR
VERSION:2.0
PRODID:-//Workforce Solutions Capital Area - ECPv6.15.20//NONSGML v1.0//EN
CALSCALE:GREGORIAN
METHOD:PUBLISH
X-WR-CALNAME:Workforce Solutions Capital Area
X-ORIGINAL-URL:https://wfscapitalarea.com
X-WR-CALDESC:Events for Workforce Solutions Capital Area
REFRESH-INTERVAL;VALUE=DURATION:PT1H
X-Robots-Tag:noindex
X-PUBLISHED-TTL:PT1H
BEGIN:VTIMEZONE
TZID:America/Chicago
BEGIN:DAYLIGHT
TZOFFSETFROM:-0600
TZOFFSETTO:-0500
TZNAME:CDT
DTSTART:20260308T080000
END:DAYLIGHT
BEGIN:STANDARD
TZOFFSETFROM:-0500
TZOFFSETTO:-0600
TZNAME:CST
DTSTART:20261101T070000
END:STANDARD
BEGIN:DAYLIGHT
TZOFFSETFROM:-0600
TZOFFSETTO:-0500
TZNAME:CDT
DTSTART:20270314T080000
END:DAYLIGHT
BEGIN:STANDARD
TZOFFSETFROM:-0500
TZOFFSETTO:-0600
TZNAME:CST
DTSTART:20271107T070000
END:STANDARD
BEGIN:DAYLIGHT
TZOFFSETFROM:-0600
TZOFFSETTO:-0500
TZNAME:CDT
DTSTART:20280312T080000
END:DAYLIGHT
BEGIN:STANDARD
TZOFFSETFROM:-0500
TZOFFSETTO:-0600
TZNAME:CST
DTSTART:20281105T070000
END:STANDARD
BEGIN:DAYLIGHT
TZOFFSETFROM:-0600
TZOFFSETTO:-0500
TZNAME:CDT
DTSTART:20290311T080000
END:DAYLIGHT
BEGIN:STANDARD
TZOFFSETFROM:-0500
TZOFFSETTO:-0600
TZNAME:CST
DTSTART:20291104T070000
END:STANDARD
BEGIN:DAYLIGHT
TZOFFSETFROM:-0600
TZOFFSETTO:-0500
TZNAME:CDT
DTSTART:20300310T080000
END:DAYLIGHT
BEGIN:STANDARD
TZOFFSETFROM:-0500
TZOFFSETTO:-0600
TZNAME:CST
DTSTART:20301103T070000
END:STANDARD
END:VTIMEZONE
BEGIN:VEVENT
DTSTART;TZID=America/Chicago:20270503T150000
DTEND;TZID=America/Chicago:20270503T163000
DTSTAMP:20260421T050215
CREATED:20260413T213635Z
LAST-MODIFIED:20260413T213712Z
UID:10006221-1809356400-1809361800@wfscapitalarea.com
SUMMARY:Are You LinkedIn?
DESCRIPTION:Learn how to create a professional profile that puts your best foot forward while showcasing your abilities and accomplishments. \nRegister Here
URL:https://wfscapitalarea.com/event/are-you-linkedin/2027-05-03/
LOCATION:Virtual\, USA
CATEGORIES:Career Workshops
ATTACH;FMTTYPE=image/jpeg:https://wfscapitalarea.com/wp-content/uploads/2026/03/wfs-logo-featured-image-blue.jpg
ORGANIZER;CN="Workforce Solutions Capital Area":MAILTO:info@wfscapitalarea.com
END:VEVENT
BEGIN:VEVENT
DTSTART;TZID=America/Chicago:20270607T150000
DTEND;TZID=America/Chicago:20270607T163000
DTSTAMP:20260421T050215
CREATED:20260413T213635Z
LAST-MODIFIED:20260413T213712Z
UID:10006222-1812380400-1812385800@wfscapitalarea.com
SUMMARY:Are You LinkedIn?
DESCRIPTION:Learn how to create a professional profile that puts your best foot forward while showcasing your abilities and accomplishments. \nRegister Here
URL:https://wfscapitalarea.com/event/are-you-linkedin/2027-06-07/
LOCATION:Virtual\, USA
CATEGORIES:Career Workshops
ATTACH;FMTTYPE=image/jpeg:https://wfscapitalarea.com/wp-content/uploads/2026/03/wfs-logo-featured-image-blue.jpg
ORGANIZER;CN="Workforce Solutions Capital Area":MAILTO:info@wfscapitalarea.com
END:VEVENT
BEGIN:VEVENT
DTSTART;TZID=America/Chicago:20270705T150000
DTEND;TZID=America/Chicago:20270705T163000
DTSTAMP:20260421T050215
CREATED:20260413T213635Z
LAST-MODIFIED:20260413T213712Z
UID:10006223-1814799600-1814805000@wfscapitalarea.com
SUMMARY:Are You LinkedIn?
DESCRIPTION:Learn how to create a professional profile that puts your best foot forward while showcasing your abilities and accomplishments. \nRegister Here
URL:https://wfscapitalarea.com/event/are-you-linkedin/2027-07-05/
LOCATION:Virtual\, USA
CATEGORIES:Career Workshops
ATTACH;FMTTYPE=image/jpeg:https://wfscapitalarea.com/wp-content/uploads/2026/03/wfs-logo-featured-image-blue.jpg
ORGANIZER;CN="Workforce Solutions Capital Area":MAILTO:info@wfscapitalarea.com
END:VEVENT
BEGIN:VEVENT
DTSTART;TZID=America/Chicago:20270802T150000
DTEND;TZID=America/Chicago:20270802T163000
DTSTAMP:20260421T050215
CREATED:20260413T213635Z
LAST-MODIFIED:20260413T213712Z
UID:10006224-1817218800-1817224200@wfscapitalarea.com
SUMMARY:Are You LinkedIn?
DESCRIPTION:Learn how to create a professional profile that puts your best foot forward while showcasing your abilities and accomplishments. \nRegister Here
URL:https://wfscapitalarea.com/event/are-you-linkedin/2027-08-02/
LOCATION:Virtual\, USA
CATEGORIES:Career Workshops
ATTACH;FMTTYPE=image/jpeg:https://wfscapitalarea.com/wp-content/uploads/2026/03/wfs-logo-featured-image-blue.jpg
ORGANIZER;CN="Workforce Solutions Capital Area":MAILTO:info@wfscapitalarea.com
END:VEVENT
BEGIN:VEVENT
DTSTART;TZID=America/Chicago:20270906T150000
DTEND;TZID=America/Chicago:20270906T163000
DTSTAMP:20260421T050215
CREATED:20260413T213635Z
LAST-MODIFIED:20260413T213712Z
UID:10006225-1820242800-1820248200@wfscapitalarea.com
SUMMARY:Are You LinkedIn?
DESCRIPTION:Learn how to create a professional profile that puts your best foot forward while showcasing your abilities and accomplishments. \nRegister Here
URL:https://wfscapitalarea.com/event/are-you-linkedin/2027-09-06/
LOCATION:Virtual\, USA
CATEGORIES:Career Workshops
ATTACH;FMTTYPE=image/jpeg:https://wfscapitalarea.com/wp-content/uploads/2026/03/wfs-logo-featured-image-blue.jpg
ORGANIZER;CN="Workforce Solutions Capital Area":MAILTO:info@wfscapitalarea.com
END:VEVENT
BEGIN:VEVENT
DTSTART;TZID=America/Chicago:20271004T150000
DTEND;TZID=America/Chicago:20271004T163000
DTSTAMP:20260421T050215
CREATED:20260413T213635Z
LAST-MODIFIED:20260413T213712Z
UID:10006226-1822662000-1822667400@wfscapitalarea.com
SUMMARY:Are You LinkedIn?
DESCRIPTION:Learn how to create a professional profile that puts your best foot forward while showcasing your abilities and accomplishments. \nRegister Here
URL:https://wfscapitalarea.com/event/are-you-linkedin/2027-10-04/
LOCATION:Virtual\, USA
CATEGORIES:Career Workshops
ATTACH;FMTTYPE=image/jpeg:https://wfscapitalarea.com/wp-content/uploads/2026/03/wfs-logo-featured-image-blue.jpg
ORGANIZER;CN="Workforce Solutions Capital Area":MAILTO:info@wfscapitalarea.com
END:VEVENT
BEGIN:VEVENT
DTSTART;TZID=America/Chicago:20271101T150000
DTEND;TZID=America/Chicago:20271101T163000
DTSTAMP:20260421T050215
CREATED:20260413T213635Z
LAST-MODIFIED:20260413T213712Z
UID:10006227-1825081200-1825086600@wfscapitalarea.com
SUMMARY:Are You LinkedIn?
DESCRIPTION:Learn how to create a professional profile that puts your best foot forward while showcasing your abilities and accomplishments. \nRegister Here
URL:https://wfscapitalarea.com/event/are-you-linkedin/2027-11-01/
LOCATION:Virtual\, USA
CATEGORIES:Career Workshops
ATTACH;FMTTYPE=image/jpeg:https://wfscapitalarea.com/wp-content/uploads/2026/03/wfs-logo-featured-image-blue.jpg
ORGANIZER;CN="Workforce Solutions Capital Area":MAILTO:info@wfscapitalarea.com
END:VEVENT
BEGIN:VEVENT
DTSTART;TZID=America/Chicago:20271206T150000
DTEND;TZID=America/Chicago:20271206T163000
DTSTAMP:20260421T050215
CREATED:20260413T213635Z
LAST-MODIFIED:20260413T213712Z
UID:10006228-1828105200-1828110600@wfscapitalarea.com
SUMMARY:Are You LinkedIn?
DESCRIPTION:Learn how to create a professional profile that puts your best foot forward while showcasing your abilities and accomplishments. \nRegister Here
URL:https://wfscapitalarea.com/event/are-you-linkedin/2027-12-06/
LOCATION:Virtual\, USA
CATEGORIES:Career Workshops
ATTACH;FMTTYPE=image/jpeg:https://wfscapitalarea.com/wp-content/uploads/2026/03/wfs-logo-featured-image-blue.jpg
ORGANIZER;CN="Workforce Solutions Capital Area":MAILTO:info@wfscapitalarea.com
END:VEVENT
BEGIN:VEVENT
DTSTART;TZID=America/Chicago:20280103T150000
DTEND;TZID=America/Chicago:20280103T163000
DTSTAMP:20260421T050215
CREATED:20260413T213635Z
LAST-MODIFIED:20260413T213712Z
UID:10006229-1830524400-1830529800@wfscapitalarea.com
SUMMARY:Are You LinkedIn?
DESCRIPTION:Learn how to create a professional profile that puts your best foot forward while showcasing your abilities and accomplishments. \nRegister Here
URL:https://wfscapitalarea.com/event/are-you-linkedin/2028-01-03/
LOCATION:Virtual\, USA
CATEGORIES:Career Workshops
ATTACH;FMTTYPE=image/jpeg:https://wfscapitalarea.com/wp-content/uploads/2026/03/wfs-logo-featured-image-blue.jpg
ORGANIZER;CN="Workforce Solutions Capital Area":MAILTO:info@wfscapitalarea.com
END:VEVENT
BEGIN:VEVENT
DTSTART;TZID=America/Chicago:20280207T150000
DTEND;TZID=America/Chicago:20280207T163000
DTSTAMP:20260421T050215
CREATED:20260413T213635Z
LAST-MODIFIED:20260413T213712Z
UID:10006230-1833548400-1833553800@wfscapitalarea.com
SUMMARY:Are You LinkedIn?
DESCRIPTION:Learn how to create a professional profile that puts your best foot forward while showcasing your abilities and accomplishments. \nRegister Here
URL:https://wfscapitalarea.com/event/are-you-linkedin/2028-02-07/
LOCATION:Virtual\, USA
CATEGORIES:Career Workshops
ATTACH;FMTTYPE=image/jpeg:https://wfscapitalarea.com/wp-content/uploads/2026/03/wfs-logo-featured-image-blue.jpg
ORGANIZER;CN="Workforce Solutions Capital Area":MAILTO:info@wfscapitalarea.com
END:VEVENT
BEGIN:VEVENT
DTSTART;TZID=America/Chicago:20280306T150000
DTEND;TZID=America/Chicago:20280306T163000
DTSTAMP:20260421T050215
CREATED:20260413T213635Z
LAST-MODIFIED:20260413T213712Z
UID:10006231-1835967600-1835973000@wfscapitalarea.com
SUMMARY:Are You LinkedIn?
DESCRIPTION:Learn how to create a professional profile that puts your best foot forward while showcasing your abilities and accomplishments. \nRegister Here
URL:https://wfscapitalarea.com/event/are-you-linkedin/2028-03-06/
LOCATION:Virtual\, USA
CATEGORIES:Career Workshops
ATTACH;FMTTYPE=image/jpeg:https://wfscapitalarea.com/wp-content/uploads/2026/03/wfs-logo-featured-image-blue.jpg
ORGANIZER;CN="Workforce Solutions Capital Area":MAILTO:info@wfscapitalarea.com
END:VEVENT
BEGIN:VEVENT
DTSTART;TZID=America/Chicago:20280403T150000
DTEND;TZID=America/Chicago:20280403T163000
DTSTAMP:20260421T050215
CREATED:20260413T213635Z
LAST-MODIFIED:20260413T213712Z
UID:10006232-1838386800-1838392200@wfscapitalarea.com
SUMMARY:Are You LinkedIn?
DESCRIPTION:Learn how to create a professional profile that puts your best foot forward while showcasing your abilities and accomplishments. \nRegister Here
URL:https://wfscapitalarea.com/event/are-you-linkedin/2028-04-03/
LOCATION:Virtual\, USA
CATEGORIES:Career Workshops
ATTACH;FMTTYPE=image/jpeg:https://wfscapitalarea.com/wp-content/uploads/2026/03/wfs-logo-featured-image-blue.jpg
ORGANIZER;CN="Workforce Solutions Capital Area":MAILTO:info@wfscapitalarea.com
END:VEVENT
BEGIN:VEVENT
DTSTART;TZID=America/Chicago:20280501T150000
DTEND;TZID=America/Chicago:20280501T163000
DTSTAMP:20260421T050215
CREATED:20260413T213635Z
LAST-MODIFIED:20260413T213712Z
UID:10006233-1840806000-1840811400@wfscapitalarea.com
SUMMARY:Are You LinkedIn?
DESCRIPTION:Learn how to create a professional profile that puts your best foot forward while showcasing your abilities and accomplishments. \nRegister Here
URL:https://wfscapitalarea.com/event/are-you-linkedin/2028-05-01/
LOCATION:Virtual\, USA
CATEGORIES:Career Workshops
ATTACH;FMTTYPE=image/jpeg:https://wfscapitalarea.com/wp-content/uploads/2026/03/wfs-logo-featured-image-blue.jpg
ORGANIZER;CN="Workforce Solutions Capital Area":MAILTO:info@wfscapitalarea.com
END:VEVENT
BEGIN:VEVENT
DTSTART;TZID=America/Chicago:20280605T150000
DTEND;TZID=America/Chicago:20280605T163000
DTSTAMP:20260421T050215
CREATED:20260413T213635Z
LAST-MODIFIED:20260413T213712Z
UID:10006234-1843830000-1843835400@wfscapitalarea.com
SUMMARY:Are You LinkedIn?
DESCRIPTION:Learn how to create a professional profile that puts your best foot forward while showcasing your abilities and accomplishments. \nRegister Here
URL:https://wfscapitalarea.com/event/are-you-linkedin/2028-06-05/
LOCATION:Virtual\, USA
CATEGORIES:Career Workshops
ATTACH;FMTTYPE=image/jpeg:https://wfscapitalarea.com/wp-content/uploads/2026/03/wfs-logo-featured-image-blue.jpg
ORGANIZER;CN="Workforce Solutions Capital Area":MAILTO:info@wfscapitalarea.com
END:VEVENT
BEGIN:VEVENT
DTSTART;TZID=America/Chicago:20280703T150000
DTEND;TZID=America/Chicago:20280703T163000
DTSTAMP:20260421T050215
CREATED:20260413T213635Z
LAST-MODIFIED:20260413T213712Z
UID:10006235-1846249200-1846254600@wfscapitalarea.com
SUMMARY:Are You LinkedIn?
DESCRIPTION:Learn how to create a professional profile that puts your best foot forward while showcasing your abilities and accomplishments. \nRegister Here
URL:https://wfscapitalarea.com/event/are-you-linkedin/2028-07-03/
LOCATION:Virtual\, USA
CATEGORIES:Career Workshops
ATTACH;FMTTYPE=image/jpeg:https://wfscapitalarea.com/wp-content/uploads/2026/03/wfs-logo-featured-image-blue.jpg
ORGANIZER;CN="Workforce Solutions Capital Area":MAILTO:info@wfscapitalarea.com
END:VEVENT
BEGIN:VEVENT
DTSTART;TZID=America/Chicago:20280807T150000
DTEND;TZID=America/Chicago:20280807T163000
DTSTAMP:20260421T050215
CREATED:20260413T213635Z
LAST-MODIFIED:20260413T213712Z
UID:10006236-1849273200-1849278600@wfscapitalarea.com
SUMMARY:Are You LinkedIn?
DESCRIPTION:Learn how to create a professional profile that puts your best foot forward while showcasing your abilities and accomplishments. \nRegister Here
URL:https://wfscapitalarea.com/event/are-you-linkedin/2028-08-07/
LOCATION:Virtual\, USA
CATEGORIES:Career Workshops
ATTACH;FMTTYPE=image/jpeg:https://wfscapitalarea.com/wp-content/uploads/2026/03/wfs-logo-featured-image-blue.jpg
ORGANIZER;CN="Workforce Solutions Capital Area":MAILTO:info@wfscapitalarea.com
END:VEVENT
BEGIN:VEVENT
DTSTART;TZID=America/Chicago:20280904T150000
DTEND;TZID=America/Chicago:20280904T163000
DTSTAMP:20260421T050215
CREATED:20260413T213635Z
LAST-MODIFIED:20260413T213712Z
UID:10006237-1851692400-1851697800@wfscapitalarea.com
SUMMARY:Are You LinkedIn?
DESCRIPTION:Learn how to create a professional profile that puts your best foot forward while showcasing your abilities and accomplishments. \nRegister Here
URL:https://wfscapitalarea.com/event/are-you-linkedin/2028-09-04/
LOCATION:Virtual\, USA
CATEGORIES:Career Workshops
ATTACH;FMTTYPE=image/jpeg:https://wfscapitalarea.com/wp-content/uploads/2026/03/wfs-logo-featured-image-blue.jpg
ORGANIZER;CN="Workforce Solutions Capital Area":MAILTO:info@wfscapitalarea.com
END:VEVENT
BEGIN:VEVENT
DTSTART;TZID=America/Chicago:20281002T150000
DTEND;TZID=America/Chicago:20281002T163000
DTSTAMP:20260421T050215
CREATED:20260413T213635Z
LAST-MODIFIED:20260413T213712Z
UID:10006238-1854111600-1854117000@wfscapitalarea.com
SUMMARY:Are You LinkedIn?
DESCRIPTION:Learn how to create a professional profile that puts your best foot forward while showcasing your abilities and accomplishments. \nRegister Here
URL:https://wfscapitalarea.com/event/are-you-linkedin/2028-10-02/
LOCATION:Virtual\, USA
CATEGORIES:Career Workshops
ATTACH;FMTTYPE=image/jpeg:https://wfscapitalarea.com/wp-content/uploads/2026/03/wfs-logo-featured-image-blue.jpg
ORGANIZER;CN="Workforce Solutions Capital Area":MAILTO:info@wfscapitalarea.com
END:VEVENT
BEGIN:VEVENT
DTSTART;TZID=America/Chicago:20281106T150000
DTEND;TZID=America/Chicago:20281106T163000
DTSTAMP:20260421T050215
CREATED:20260413T213635Z
LAST-MODIFIED:20260413T213712Z
UID:10006239-1857135600-1857141000@wfscapitalarea.com
SUMMARY:Are You LinkedIn?
DESCRIPTION:Learn how to create a professional profile that puts your best foot forward while showcasing your abilities and accomplishments. \nRegister Here
URL:https://wfscapitalarea.com/event/are-you-linkedin/2028-11-06/
LOCATION:Virtual\, USA
CATEGORIES:Career Workshops
ATTACH;FMTTYPE=image/jpeg:https://wfscapitalarea.com/wp-content/uploads/2026/03/wfs-logo-featured-image-blue.jpg
ORGANIZER;CN="Workforce Solutions Capital Area":MAILTO:info@wfscapitalarea.com
END:VEVENT
BEGIN:VEVENT
DTSTART;TZID=America/Chicago:20281204T150000
DTEND;TZID=America/Chicago:20281204T163000
DTSTAMP:20260421T050215
CREATED:20260413T213635Z
LAST-MODIFIED:20260413T213712Z
UID:10006240-1859554800-1859560200@wfscapitalarea.com
SUMMARY:Are You LinkedIn?
DESCRIPTION:Learn how to create a professional profile that puts your best foot forward while showcasing your abilities and accomplishments. \nRegister Here
URL:https://wfscapitalarea.com/event/are-you-linkedin/2028-12-04/
LOCATION:Virtual\, USA
CATEGORIES:Career Workshops
ATTACH;FMTTYPE=image/jpeg:https://wfscapitalarea.com/wp-content/uploads/2026/03/wfs-logo-featured-image-blue.jpg
ORGANIZER;CN="Workforce Solutions Capital Area":MAILTO:info@wfscapitalarea.com
END:VEVENT
BEGIN:VEVENT
DTSTART;TZID=America/Chicago:20290101T150000
DTEND;TZID=America/Chicago:20290101T163000
DTSTAMP:20260421T050215
CREATED:20260413T213635Z
LAST-MODIFIED:20260413T213712Z
UID:10006241-1861974000-1861979400@wfscapitalarea.com
SUMMARY:Are You LinkedIn?
DESCRIPTION:Learn how to create a professional profile that puts your best foot forward while showcasing your abilities and accomplishments. \nRegister Here
URL:https://wfscapitalarea.com/event/are-you-linkedin/2029-01-01/
LOCATION:Virtual\, USA
CATEGORIES:Career Workshops
ATTACH;FMTTYPE=image/jpeg:https://wfscapitalarea.com/wp-content/uploads/2026/03/wfs-logo-featured-image-blue.jpg
ORGANIZER;CN="Workforce Solutions Capital Area":MAILTO:info@wfscapitalarea.com
END:VEVENT
BEGIN:VEVENT
DTSTART;TZID=America/Chicago:20290205T150000
DTEND;TZID=America/Chicago:20290205T163000
DTSTAMP:20260421T050215
CREATED:20260413T213635Z
LAST-MODIFIED:20260413T213712Z
UID:10006242-1864998000-1865003400@wfscapitalarea.com
SUMMARY:Are You LinkedIn?
DESCRIPTION:Learn how to create a professional profile that puts your best foot forward while showcasing your abilities and accomplishments. \nRegister Here
URL:https://wfscapitalarea.com/event/are-you-linkedin/2029-02-05/
LOCATION:Virtual\, USA
CATEGORIES:Career Workshops
ATTACH;FMTTYPE=image/jpeg:https://wfscapitalarea.com/wp-content/uploads/2026/03/wfs-logo-featured-image-blue.jpg
ORGANIZER;CN="Workforce Solutions Capital Area":MAILTO:info@wfscapitalarea.com
END:VEVENT
BEGIN:VEVENT
DTSTART;TZID=America/Chicago:20290305T150000
DTEND;TZID=America/Chicago:20290305T163000
DTSTAMP:20260421T050215
CREATED:20260413T213635Z
LAST-MODIFIED:20260413T213712Z
UID:10006243-1867417200-1867422600@wfscapitalarea.com
SUMMARY:Are You LinkedIn?
DESCRIPTION:Learn how to create a professional profile that puts your best foot forward while showcasing your abilities and accomplishments. \nRegister Here
URL:https://wfscapitalarea.com/event/are-you-linkedin/2029-03-05/
LOCATION:Virtual\, USA
CATEGORIES:Career Workshops
ATTACH;FMTTYPE=image/jpeg:https://wfscapitalarea.com/wp-content/uploads/2026/03/wfs-logo-featured-image-blue.jpg
ORGANIZER;CN="Workforce Solutions Capital Area":MAILTO:info@wfscapitalarea.com
END:VEVENT
BEGIN:VEVENT
DTSTART;TZID=America/Chicago:20290402T150000
DTEND;TZID=America/Chicago:20290402T163000
DTSTAMP:20260421T050215
CREATED:20260413T213635Z
LAST-MODIFIED:20260413T213712Z
UID:10006244-1869836400-1869841800@wfscapitalarea.com
SUMMARY:Are You LinkedIn?
DESCRIPTION:Learn how to create a professional profile that puts your best foot forward while showcasing your abilities and accomplishments. \nRegister Here
URL:https://wfscapitalarea.com/event/are-you-linkedin/2029-04-02/
LOCATION:Virtual\, USA
CATEGORIES:Career Workshops
ATTACH;FMTTYPE=image/jpeg:https://wfscapitalarea.com/wp-content/uploads/2026/03/wfs-logo-featured-image-blue.jpg
ORGANIZER;CN="Workforce Solutions Capital Area":MAILTO:info@wfscapitalarea.com
END:VEVENT
BEGIN:VEVENT
DTSTART;TZID=America/Chicago:20290507T150000
DTEND;TZID=America/Chicago:20290507T163000
DTSTAMP:20260421T050215
CREATED:20260413T213635Z
LAST-MODIFIED:20260413T213712Z
UID:10006245-1872860400-1872865800@wfscapitalarea.com
SUMMARY:Are You LinkedIn?
DESCRIPTION:Learn how to create a professional profile that puts your best foot forward while showcasing your abilities and accomplishments. \nRegister Here
URL:https://wfscapitalarea.com/event/are-you-linkedin/2029-05-07/
LOCATION:Virtual\, USA
CATEGORIES:Career Workshops
ATTACH;FMTTYPE=image/jpeg:https://wfscapitalarea.com/wp-content/uploads/2026/03/wfs-logo-featured-image-blue.jpg
ORGANIZER;CN="Workforce Solutions Capital Area":MAILTO:info@wfscapitalarea.com
END:VEVENT
BEGIN:VEVENT
DTSTART;TZID=America/Chicago:20290604T150000
DTEND;TZID=America/Chicago:20290604T163000
DTSTAMP:20260421T050215
CREATED:20260413T213635Z
LAST-MODIFIED:20260413T213712Z
UID:10006246-1875279600-1875285000@wfscapitalarea.com
SUMMARY:Are You LinkedIn?
DESCRIPTION:Learn how to create a professional profile that puts your best foot forward while showcasing your abilities and accomplishments. \nRegister Here
URL:https://wfscapitalarea.com/event/are-you-linkedin/2029-06-04/
LOCATION:Virtual\, USA
CATEGORIES:Career Workshops
ATTACH;FMTTYPE=image/jpeg:https://wfscapitalarea.com/wp-content/uploads/2026/03/wfs-logo-featured-image-blue.jpg
ORGANIZER;CN="Workforce Solutions Capital Area":MAILTO:info@wfscapitalarea.com
END:VEVENT
BEGIN:VEVENT
DTSTART;TZID=America/Chicago:20290702T150000
DTEND;TZID=America/Chicago:20290702T163000
DTSTAMP:20260421T050215
CREATED:20260413T213635Z
LAST-MODIFIED:20260413T213712Z
UID:10006247-1877698800-1877704200@wfscapitalarea.com
SUMMARY:Are You LinkedIn?
DESCRIPTION:Learn how to create a professional profile that puts your best foot forward while showcasing your abilities and accomplishments. \nRegister Here
URL:https://wfscapitalarea.com/event/are-you-linkedin/2029-07-02/
LOCATION:Virtual\, USA
CATEGORIES:Career Workshops
ATTACH;FMTTYPE=image/jpeg:https://wfscapitalarea.com/wp-content/uploads/2026/03/wfs-logo-featured-image-blue.jpg
ORGANIZER;CN="Workforce Solutions Capital Area":MAILTO:info@wfscapitalarea.com
END:VEVENT
BEGIN:VEVENT
DTSTART;TZID=America/Chicago:20290806T150000
DTEND;TZID=America/Chicago:20290806T163000
DTSTAMP:20260421T050215
CREATED:20260413T213635Z
LAST-MODIFIED:20260413T213712Z
UID:10006248-1880722800-1880728200@wfscapitalarea.com
SUMMARY:Are You LinkedIn?
DESCRIPTION:Learn how to create a professional profile that puts your best foot forward while showcasing your abilities and accomplishments. \nRegister Here
URL:https://wfscapitalarea.com/event/are-you-linkedin/2029-08-06/
LOCATION:Virtual\, USA
CATEGORIES:Career Workshops
ATTACH;FMTTYPE=image/jpeg:https://wfscapitalarea.com/wp-content/uploads/2026/03/wfs-logo-featured-image-blue.jpg
ORGANIZER;CN="Workforce Solutions Capital Area":MAILTO:info@wfscapitalarea.com
END:VEVENT
BEGIN:VEVENT
DTSTART;TZID=America/Chicago:20290903T150000
DTEND;TZID=America/Chicago:20290903T163000
DTSTAMP:20260421T050215
CREATED:20260413T213635Z
LAST-MODIFIED:20260413T213712Z
UID:10006249-1883142000-1883147400@wfscapitalarea.com
SUMMARY:Are You LinkedIn?
DESCRIPTION:Learn how to create a professional profile that puts your best foot forward while showcasing your abilities and accomplishments. \nRegister Here
URL:https://wfscapitalarea.com/event/are-you-linkedin/2029-09-03/
LOCATION:Virtual\, USA
CATEGORIES:Career Workshops
ATTACH;FMTTYPE=image/jpeg:https://wfscapitalarea.com/wp-content/uploads/2026/03/wfs-logo-featured-image-blue.jpg
ORGANIZER;CN="Workforce Solutions Capital Area":MAILTO:info@wfscapitalarea.com
END:VEVENT
BEGIN:VEVENT
DTSTART;TZID=America/Chicago:20291001T150000
DTEND;TZID=America/Chicago:20291001T163000
DTSTAMP:20260421T050215
CREATED:20260413T213635Z
LAST-MODIFIED:20260413T213712Z
UID:10006250-1885561200-1885566600@wfscapitalarea.com
SUMMARY:Are You LinkedIn?
DESCRIPTION:Learn how to create a professional profile that puts your best foot forward while showcasing your abilities and accomplishments. \nRegister Here
URL:https://wfscapitalarea.com/event/are-you-linkedin/2029-10-01/
LOCATION:Virtual\, USA
CATEGORIES:Career Workshops
ATTACH;FMTTYPE=image/jpeg:https://wfscapitalarea.com/wp-content/uploads/2026/03/wfs-logo-featured-image-blue.jpg
ORGANIZER;CN="Workforce Solutions Capital Area":MAILTO:info@wfscapitalarea.com
END:VEVENT
END:VCALENDAR