BEGIN:VCALENDAR
VERSION:2.0
PRODID:-//Workforce Solutions Capital Area - ECPv6.15.20//NONSGML v1.0//EN
CALSCALE:GREGORIAN
METHOD:PUBLISH
X-ORIGINAL-URL:https://wfscapitalarea.com
X-WR-CALDESC:Events for Workforce Solutions Capital Area
REFRESH-INTERVAL;VALUE=DURATION:PT1H
X-Robots-Tag:noindex
X-PUBLISHED-TTL:PT1H
BEGIN:VTIMEZONE
TZID:America/Chicago
BEGIN:DAYLIGHT
TZOFFSETFROM:-0600
TZOFFSETTO:-0500
TZNAME:CDT
DTSTART:20280312T080000
END:DAYLIGHT
BEGIN:STANDARD
TZOFFSETFROM:-0500
TZOFFSETTO:-0600
TZNAME:CST
DTSTART:20281105T070000
END:STANDARD
BEGIN:DAYLIGHT
TZOFFSETFROM:-0600
TZOFFSETTO:-0500
TZNAME:CDT
DTSTART:20290311T080000
END:DAYLIGHT
BEGIN:STANDARD
TZOFFSETFROM:-0500
TZOFFSETTO:-0600
TZNAME:CST
DTSTART:20291104T070000
END:STANDARD
BEGIN:DAYLIGHT
TZOFFSETFROM:-0600
TZOFFSETTO:-0500
TZNAME:CDT
DTSTART:20300310T080000
END:DAYLIGHT
BEGIN:STANDARD
TZOFFSETFROM:-0500
TZOFFSETTO:-0600
TZNAME:CST
DTSTART:20301103T070000
END:STANDARD
BEGIN:DAYLIGHT
TZOFFSETFROM:-0600
TZOFFSETTO:-0500
TZNAME:CDT
DTSTART:20310309T080000
END:DAYLIGHT
BEGIN:STANDARD
TZOFFSETFROM:-0500
TZOFFSETTO:-0600
TZNAME:CST
DTSTART:20311102T070000
END:STANDARD
BEGIN:DAYLIGHT
TZOFFSETFROM:-0600
TZOFFSETTO:-0500
TZNAME:CDT
DTSTART:20320314T080000
END:DAYLIGHT
BEGIN:STANDARD
TZOFFSETFROM:-0500
TZOFFSETTO:-0600
TZNAME:CST
DTSTART:20321107T070000
END:STANDARD
END:VTIMEZONE
BEGIN:VEVENT
DTSTART;TZID=America/Chicago:20291102T083000
DTEND;TZID=America/Chicago:20291102T100000
DTSTAMP:20260422T060908
CREATED:20260319T215946Z
LAST-MODIFIED:20260413T212831Z
UID:10006132-1888302600-1888308000@wfscapitalarea.com
SUMMARY:Mobile Food Pantry with El Buen Samaritano
DESCRIPTION:While supplies last\nEl Buen Samaritano will provide nutritious shelf-stable foods and fresh  produce.\n 
URL:https://wfscapitalarea.com/event/mobile-food-pantry-with-el-buen-samaritano/2029-11-02/
LOCATION:North Career Center\, 9001 N IH 35\, Austin\, TX\, 78753\, United States
CATEGORIES:Community Resources
ATTACH;FMTTYPE=image/jpeg:https://wfscapitalarea.com/wp-content/uploads/2026/03/wfs-logo-featured-image-teal.jpg
ORGANIZER;CN="Workforce Solutions Capital Area":MAILTO:info@wfscapitalarea.com
END:VEVENT
BEGIN:VEVENT
DTSTART;TZID=America/Chicago:20291116T083000
DTEND;TZID=America/Chicago:20291116T100000
DTSTAMP:20260422T060908
CREATED:20260413T213055Z
LAST-MODIFIED:20260413T213055Z
UID:10006192-1889512200-1889517600@wfscapitalarea.com
SUMMARY:Mobile Food Pantry with El Buen Samaritano
DESCRIPTION:While supplies last\nEl Buen Samaritano will provide nutritious shelf-stable foods and fresh  produce.\n 
URL:https://wfscapitalarea.com/event/mobile-food-pantry-with-el-buen-samaritano-2/2029-11-16/
LOCATION:North Career Center\, 9001 N IH 35\, Austin\, TX\, 78753\, United States
CATEGORIES:Community Resources
ATTACH;FMTTYPE=image/jpeg:https://wfscapitalarea.com/wp-content/uploads/2026/03/wfs-logo-featured-image-blue.jpg
ORGANIZER;CN="Workforce Solutions Capital Area":MAILTO:info@wfscapitalarea.com
END:VEVENT
BEGIN:VEVENT
DTSTART;TZID=America/Chicago:20291207T083000
DTEND;TZID=America/Chicago:20291207T100000
DTSTAMP:20260422T060908
CREATED:20260319T215946Z
LAST-MODIFIED:20260413T212831Z
UID:10006133-1891326600-1891332000@wfscapitalarea.com
SUMMARY:Mobile Food Pantry with El Buen Samaritano
DESCRIPTION:While supplies last\nEl Buen Samaritano will provide nutritious shelf-stable foods and fresh  produce.\n 
URL:https://wfscapitalarea.com/event/mobile-food-pantry-with-el-buen-samaritano/2029-12-07/
LOCATION:North Career Center\, 9001 N IH 35\, Austin\, TX\, 78753\, United States
CATEGORIES:Community Resources
ATTACH;FMTTYPE=image/jpeg:https://wfscapitalarea.com/wp-content/uploads/2026/03/wfs-logo-featured-image-teal.jpg
ORGANIZER;CN="Workforce Solutions Capital Area":MAILTO:info@wfscapitalarea.com
END:VEVENT
BEGIN:VEVENT
DTSTART;TZID=America/Chicago:20291221T083000
DTEND;TZID=America/Chicago:20291221T100000
DTSTAMP:20260422T060908
CREATED:20260413T213055Z
LAST-MODIFIED:20260413T213055Z
UID:10006193-1892536200-1892541600@wfscapitalarea.com
SUMMARY:Mobile Food Pantry with El Buen Samaritano
DESCRIPTION:While supplies last\nEl Buen Samaritano will provide nutritious shelf-stable foods and fresh  produce.\n 
URL:https://wfscapitalarea.com/event/mobile-food-pantry-with-el-buen-samaritano-2/2029-12-21/
LOCATION:North Career Center\, 9001 N IH 35\, Austin\, TX\, 78753\, United States
CATEGORIES:Community Resources
ATTACH;FMTTYPE=image/jpeg:https://wfscapitalarea.com/wp-content/uploads/2026/03/wfs-logo-featured-image-blue.jpg
ORGANIZER;CN="Workforce Solutions Capital Area":MAILTO:info@wfscapitalarea.com
END:VEVENT
BEGIN:VEVENT
DTSTART;TZID=America/Chicago:20300104T083000
DTEND;TZID=America/Chicago:20300104T100000
DTSTAMP:20260422T060908
CREATED:20260319T215946Z
LAST-MODIFIED:20260413T212831Z
UID:10006134-1893745800-1893751200@wfscapitalarea.com
SUMMARY:Mobile Food Pantry with El Buen Samaritano
DESCRIPTION:While supplies last\nEl Buen Samaritano will provide nutritious shelf-stable foods and fresh  produce.\n 
URL:https://wfscapitalarea.com/event/mobile-food-pantry-with-el-buen-samaritano/2030-01-04/
LOCATION:North Career Center\, 9001 N IH 35\, Austin\, TX\, 78753\, United States
CATEGORIES:Community Resources
ATTACH;FMTTYPE=image/jpeg:https://wfscapitalarea.com/wp-content/uploads/2026/03/wfs-logo-featured-image-teal.jpg
ORGANIZER;CN="Workforce Solutions Capital Area":MAILTO:info@wfscapitalarea.com
END:VEVENT
BEGIN:VEVENT
DTSTART;TZID=America/Chicago:20300118T083000
DTEND;TZID=America/Chicago:20300118T100000
DTSTAMP:20260422T060908
CREATED:20260413T213055Z
LAST-MODIFIED:20260413T213055Z
UID:10006194-1894955400-1894960800@wfscapitalarea.com
SUMMARY:Mobile Food Pantry with El Buen Samaritano
DESCRIPTION:While supplies last\nEl Buen Samaritano will provide nutritious shelf-stable foods and fresh  produce.\n 
URL:https://wfscapitalarea.com/event/mobile-food-pantry-with-el-buen-samaritano-2/2030-01-18/
LOCATION:North Career Center\, 9001 N IH 35\, Austin\, TX\, 78753\, United States
CATEGORIES:Community Resources
ATTACH;FMTTYPE=image/jpeg:https://wfscapitalarea.com/wp-content/uploads/2026/03/wfs-logo-featured-image-blue.jpg
ORGANIZER;CN="Workforce Solutions Capital Area":MAILTO:info@wfscapitalarea.com
END:VEVENT
BEGIN:VEVENT
DTSTART;TZID=America/Chicago:20300201T083000
DTEND;TZID=America/Chicago:20300201T100000
DTSTAMP:20260422T060908
CREATED:20260319T215946Z
LAST-MODIFIED:20260413T212831Z
UID:10006135-1896165000-1896170400@wfscapitalarea.com
SUMMARY:Mobile Food Pantry with El Buen Samaritano
DESCRIPTION:While supplies last\nEl Buen Samaritano will provide nutritious shelf-stable foods and fresh  produce.\n 
URL:https://wfscapitalarea.com/event/mobile-food-pantry-with-el-buen-samaritano/2030-02-01/
LOCATION:North Career Center\, 9001 N IH 35\, Austin\, TX\, 78753\, United States
CATEGORIES:Community Resources
ATTACH;FMTTYPE=image/jpeg:https://wfscapitalarea.com/wp-content/uploads/2026/03/wfs-logo-featured-image-teal.jpg
ORGANIZER;CN="Workforce Solutions Capital Area":MAILTO:info@wfscapitalarea.com
END:VEVENT
BEGIN:VEVENT
DTSTART;TZID=America/Chicago:20300215T083000
DTEND;TZID=America/Chicago:20300215T100000
DTSTAMP:20260422T060908
CREATED:20260413T213055Z
LAST-MODIFIED:20260413T213055Z
UID:10006195-1897374600-1897380000@wfscapitalarea.com
SUMMARY:Mobile Food Pantry with El Buen Samaritano
DESCRIPTION:While supplies last\nEl Buen Samaritano will provide nutritious shelf-stable foods and fresh  produce.\n 
URL:https://wfscapitalarea.com/event/mobile-food-pantry-with-el-buen-samaritano-2/2030-02-15/
LOCATION:North Career Center\, 9001 N IH 35\, Austin\, TX\, 78753\, United States
CATEGORIES:Community Resources
ATTACH;FMTTYPE=image/jpeg:https://wfscapitalarea.com/wp-content/uploads/2026/03/wfs-logo-featured-image-blue.jpg
ORGANIZER;CN="Workforce Solutions Capital Area":MAILTO:info@wfscapitalarea.com
END:VEVENT
BEGIN:VEVENT
DTSTART;TZID=America/Chicago:20300301T083000
DTEND;TZID=America/Chicago:20300301T100000
DTSTAMP:20260422T060908
CREATED:20260319T215946Z
LAST-MODIFIED:20260413T212831Z
UID:10006136-1898584200-1898589600@wfscapitalarea.com
SUMMARY:Mobile Food Pantry with El Buen Samaritano
DESCRIPTION:While supplies last\nEl Buen Samaritano will provide nutritious shelf-stable foods and fresh  produce.\n 
URL:https://wfscapitalarea.com/event/mobile-food-pantry-with-el-buen-samaritano/2030-03-01/
LOCATION:North Career Center\, 9001 N IH 35\, Austin\, TX\, 78753\, United States
CATEGORIES:Community Resources
ATTACH;FMTTYPE=image/jpeg:https://wfscapitalarea.com/wp-content/uploads/2026/03/wfs-logo-featured-image-teal.jpg
ORGANIZER;CN="Workforce Solutions Capital Area":MAILTO:info@wfscapitalarea.com
END:VEVENT
BEGIN:VEVENT
DTSTART;TZID=America/Chicago:20300315T083000
DTEND;TZID=America/Chicago:20300315T100000
DTSTAMP:20260422T060908
CREATED:20260413T213055Z
LAST-MODIFIED:20260413T213055Z
UID:10006196-1899793800-1899799200@wfscapitalarea.com
SUMMARY:Mobile Food Pantry with El Buen Samaritano
DESCRIPTION:While supplies last\nEl Buen Samaritano will provide nutritious shelf-stable foods and fresh  produce.\n 
URL:https://wfscapitalarea.com/event/mobile-food-pantry-with-el-buen-samaritano-2/2030-03-15/
LOCATION:North Career Center\, 9001 N IH 35\, Austin\, TX\, 78753\, United States
CATEGORIES:Community Resources
ATTACH;FMTTYPE=image/jpeg:https://wfscapitalarea.com/wp-content/uploads/2026/03/wfs-logo-featured-image-blue.jpg
ORGANIZER;CN="Workforce Solutions Capital Area":MAILTO:info@wfscapitalarea.com
END:VEVENT
BEGIN:VEVENT
DTSTART;TZID=America/Chicago:20300405T083000
DTEND;TZID=America/Chicago:20300405T100000
DTSTAMP:20260422T060908
CREATED:20260319T215946Z
LAST-MODIFIED:20260413T212831Z
UID:10006137-1901608200-1901613600@wfscapitalarea.com
SUMMARY:Mobile Food Pantry with El Buen Samaritano
DESCRIPTION:While supplies last\nEl Buen Samaritano will provide nutritious shelf-stable foods and fresh  produce.\n 
URL:https://wfscapitalarea.com/event/mobile-food-pantry-with-el-buen-samaritano/2030-04-05/
LOCATION:North Career Center\, 9001 N IH 35\, Austin\, TX\, 78753\, United States
CATEGORIES:Community Resources
ATTACH;FMTTYPE=image/jpeg:https://wfscapitalarea.com/wp-content/uploads/2026/03/wfs-logo-featured-image-teal.jpg
ORGANIZER;CN="Workforce Solutions Capital Area":MAILTO:info@wfscapitalarea.com
END:VEVENT
BEGIN:VEVENT
DTSTART;TZID=America/Chicago:20300419T083000
DTEND;TZID=America/Chicago:20300419T100000
DTSTAMP:20260422T060908
CREATED:20260413T213055Z
LAST-MODIFIED:20260413T213055Z
UID:10006197-1902817800-1902823200@wfscapitalarea.com
SUMMARY:Mobile Food Pantry with El Buen Samaritano
DESCRIPTION:While supplies last\nEl Buen Samaritano will provide nutritious shelf-stable foods and fresh  produce.\n 
URL:https://wfscapitalarea.com/event/mobile-food-pantry-with-el-buen-samaritano-2/2030-04-19/
LOCATION:North Career Center\, 9001 N IH 35\, Austin\, TX\, 78753\, United States
CATEGORIES:Community Resources
ATTACH;FMTTYPE=image/jpeg:https://wfscapitalarea.com/wp-content/uploads/2026/03/wfs-logo-featured-image-blue.jpg
ORGANIZER;CN="Workforce Solutions Capital Area":MAILTO:info@wfscapitalarea.com
END:VEVENT
BEGIN:VEVENT
DTSTART;TZID=America/Chicago:20300503T083000
DTEND;TZID=America/Chicago:20300503T100000
DTSTAMP:20260422T060908
CREATED:20260319T215946Z
LAST-MODIFIED:20260413T212831Z
UID:10006138-1904027400-1904032800@wfscapitalarea.com
SUMMARY:Mobile Food Pantry with El Buen Samaritano
DESCRIPTION:While supplies last\nEl Buen Samaritano will provide nutritious shelf-stable foods and fresh  produce.\n 
URL:https://wfscapitalarea.com/event/mobile-food-pantry-with-el-buen-samaritano/2030-05-03/
LOCATION:North Career Center\, 9001 N IH 35\, Austin\, TX\, 78753\, United States
CATEGORIES:Community Resources
ATTACH;FMTTYPE=image/jpeg:https://wfscapitalarea.com/wp-content/uploads/2026/03/wfs-logo-featured-image-teal.jpg
ORGANIZER;CN="Workforce Solutions Capital Area":MAILTO:info@wfscapitalarea.com
END:VEVENT
BEGIN:VEVENT
DTSTART;TZID=America/Chicago:20300517T083000
DTEND;TZID=America/Chicago:20300517T100000
DTSTAMP:20260422T060908
CREATED:20260413T213055Z
LAST-MODIFIED:20260413T213055Z
UID:10006198-1905237000-1905242400@wfscapitalarea.com
SUMMARY:Mobile Food Pantry with El Buen Samaritano
DESCRIPTION:While supplies last\nEl Buen Samaritano will provide nutritious shelf-stable foods and fresh  produce.\n 
URL:https://wfscapitalarea.com/event/mobile-food-pantry-with-el-buen-samaritano-2/2030-05-17/
LOCATION:North Career Center\, 9001 N IH 35\, Austin\, TX\, 78753\, United States
CATEGORIES:Community Resources
ATTACH;FMTTYPE=image/jpeg:https://wfscapitalarea.com/wp-content/uploads/2026/03/wfs-logo-featured-image-blue.jpg
ORGANIZER;CN="Workforce Solutions Capital Area":MAILTO:info@wfscapitalarea.com
END:VEVENT
BEGIN:VEVENT
DTSTART;TZID=America/Chicago:20300607T083000
DTEND;TZID=America/Chicago:20300607T100000
DTSTAMP:20260422T060908
CREATED:20260319T215946Z
LAST-MODIFIED:20260413T212831Z
UID:10006139-1907051400-1907056800@wfscapitalarea.com
SUMMARY:Mobile Food Pantry with El Buen Samaritano
DESCRIPTION:While supplies last\nEl Buen Samaritano will provide nutritious shelf-stable foods and fresh  produce.\n 
URL:https://wfscapitalarea.com/event/mobile-food-pantry-with-el-buen-samaritano/2030-06-07/
LOCATION:North Career Center\, 9001 N IH 35\, Austin\, TX\, 78753\, United States
CATEGORIES:Community Resources
ATTACH;FMTTYPE=image/jpeg:https://wfscapitalarea.com/wp-content/uploads/2026/03/wfs-logo-featured-image-teal.jpg
ORGANIZER;CN="Workforce Solutions Capital Area":MAILTO:info@wfscapitalarea.com
END:VEVENT
BEGIN:VEVENT
DTSTART;TZID=America/Chicago:20300621T083000
DTEND;TZID=America/Chicago:20300621T100000
DTSTAMP:20260422T060908
CREATED:20260413T213055Z
LAST-MODIFIED:20260413T213055Z
UID:10006199-1908261000-1908266400@wfscapitalarea.com
SUMMARY:Mobile Food Pantry with El Buen Samaritano
DESCRIPTION:While supplies last\nEl Buen Samaritano will provide nutritious shelf-stable foods and fresh  produce.\n 
URL:https://wfscapitalarea.com/event/mobile-food-pantry-with-el-buen-samaritano-2/2030-06-21/
LOCATION:North Career Center\, 9001 N IH 35\, Austin\, TX\, 78753\, United States
CATEGORIES:Community Resources
ATTACH;FMTTYPE=image/jpeg:https://wfscapitalarea.com/wp-content/uploads/2026/03/wfs-logo-featured-image-blue.jpg
ORGANIZER;CN="Workforce Solutions Capital Area":MAILTO:info@wfscapitalarea.com
END:VEVENT
BEGIN:VEVENT
DTSTART;TZID=America/Chicago:20300705T083000
DTEND;TZID=America/Chicago:20300705T100000
DTSTAMP:20260422T060908
CREATED:20260319T215946Z
LAST-MODIFIED:20260413T212831Z
UID:10006140-1909470600-1909476000@wfscapitalarea.com
SUMMARY:Mobile Food Pantry with El Buen Samaritano
DESCRIPTION:While supplies last\nEl Buen Samaritano will provide nutritious shelf-stable foods and fresh  produce.\n 
URL:https://wfscapitalarea.com/event/mobile-food-pantry-with-el-buen-samaritano/2030-07-05/
LOCATION:North Career Center\, 9001 N IH 35\, Austin\, TX\, 78753\, United States
CATEGORIES:Community Resources
ATTACH;FMTTYPE=image/jpeg:https://wfscapitalarea.com/wp-content/uploads/2026/03/wfs-logo-featured-image-teal.jpg
ORGANIZER;CN="Workforce Solutions Capital Area":MAILTO:info@wfscapitalarea.com
END:VEVENT
BEGIN:VEVENT
DTSTART;TZID=America/Chicago:20300719T083000
DTEND;TZID=America/Chicago:20300719T100000
DTSTAMP:20260422T060908
CREATED:20260413T213055Z
LAST-MODIFIED:20260413T213055Z
UID:10006200-1910680200-1910685600@wfscapitalarea.com
SUMMARY:Mobile Food Pantry with El Buen Samaritano
DESCRIPTION:While supplies last\nEl Buen Samaritano will provide nutritious shelf-stable foods and fresh  produce.\n 
URL:https://wfscapitalarea.com/event/mobile-food-pantry-with-el-buen-samaritano-2/2030-07-19/
LOCATION:North Career Center\, 9001 N IH 35\, Austin\, TX\, 78753\, United States
CATEGORIES:Community Resources
ATTACH;FMTTYPE=image/jpeg:https://wfscapitalarea.com/wp-content/uploads/2026/03/wfs-logo-featured-image-blue.jpg
ORGANIZER;CN="Workforce Solutions Capital Area":MAILTO:info@wfscapitalarea.com
END:VEVENT
BEGIN:VEVENT
DTSTART;TZID=America/Chicago:20300802T083000
DTEND;TZID=America/Chicago:20300802T100000
DTSTAMP:20260422T060908
CREATED:20260319T215946Z
LAST-MODIFIED:20260413T212831Z
UID:10006141-1911889800-1911895200@wfscapitalarea.com
SUMMARY:Mobile Food Pantry with El Buen Samaritano
DESCRIPTION:While supplies last\nEl Buen Samaritano will provide nutritious shelf-stable foods and fresh  produce.\n 
URL:https://wfscapitalarea.com/event/mobile-food-pantry-with-el-buen-samaritano/2030-08-02/
LOCATION:North Career Center\, 9001 N IH 35\, Austin\, TX\, 78753\, United States
CATEGORIES:Community Resources
ATTACH;FMTTYPE=image/jpeg:https://wfscapitalarea.com/wp-content/uploads/2026/03/wfs-logo-featured-image-teal.jpg
ORGANIZER;CN="Workforce Solutions Capital Area":MAILTO:info@wfscapitalarea.com
END:VEVENT
BEGIN:VEVENT
DTSTART;TZID=America/Chicago:20300816T083000
DTEND;TZID=America/Chicago:20300816T100000
DTSTAMP:20260422T060908
CREATED:20260413T213055Z
LAST-MODIFIED:20260413T213055Z
UID:10006201-1913099400-1913104800@wfscapitalarea.com
SUMMARY:Mobile Food Pantry with El Buen Samaritano
DESCRIPTION:While supplies last\nEl Buen Samaritano will provide nutritious shelf-stable foods and fresh  produce.\n 
URL:https://wfscapitalarea.com/event/mobile-food-pantry-with-el-buen-samaritano-2/2030-08-16/
LOCATION:North Career Center\, 9001 N IH 35\, Austin\, TX\, 78753\, United States
CATEGORIES:Community Resources
ATTACH;FMTTYPE=image/jpeg:https://wfscapitalarea.com/wp-content/uploads/2026/03/wfs-logo-featured-image-blue.jpg
ORGANIZER;CN="Workforce Solutions Capital Area":MAILTO:info@wfscapitalarea.com
END:VEVENT
BEGIN:VEVENT
DTSTART;TZID=America/Chicago:20300906T083000
DTEND;TZID=America/Chicago:20300906T100000
DTSTAMP:20260422T060908
CREATED:20260319T215946Z
LAST-MODIFIED:20260413T212831Z
UID:10006142-1914913800-1914919200@wfscapitalarea.com
SUMMARY:Mobile Food Pantry with El Buen Samaritano
DESCRIPTION:While supplies last\nEl Buen Samaritano will provide nutritious shelf-stable foods and fresh  produce.\n 
URL:https://wfscapitalarea.com/event/mobile-food-pantry-with-el-buen-samaritano/2030-09-06/
LOCATION:North Career Center\, 9001 N IH 35\, Austin\, TX\, 78753\, United States
CATEGORIES:Community Resources
ATTACH;FMTTYPE=image/jpeg:https://wfscapitalarea.com/wp-content/uploads/2026/03/wfs-logo-featured-image-teal.jpg
ORGANIZER;CN="Workforce Solutions Capital Area":MAILTO:info@wfscapitalarea.com
END:VEVENT
BEGIN:VEVENT
DTSTART;TZID=America/Chicago:20300920T083000
DTEND;TZID=America/Chicago:20300920T100000
DTSTAMP:20260422T060908
CREATED:20260413T213055Z
LAST-MODIFIED:20260413T213055Z
UID:10006202-1916123400-1916128800@wfscapitalarea.com
SUMMARY:Mobile Food Pantry with El Buen Samaritano
DESCRIPTION:While supplies last\nEl Buen Samaritano will provide nutritious shelf-stable foods and fresh  produce.\n 
URL:https://wfscapitalarea.com/event/mobile-food-pantry-with-el-buen-samaritano-2/2030-09-20/
LOCATION:North Career Center\, 9001 N IH 35\, Austin\, TX\, 78753\, United States
CATEGORIES:Community Resources
ATTACH;FMTTYPE=image/jpeg:https://wfscapitalarea.com/wp-content/uploads/2026/03/wfs-logo-featured-image-blue.jpg
ORGANIZER;CN="Workforce Solutions Capital Area":MAILTO:info@wfscapitalarea.com
END:VEVENT
BEGIN:VEVENT
DTSTART;TZID=America/Chicago:20301004T083000
DTEND;TZID=America/Chicago:20301004T100000
DTSTAMP:20260422T060908
CREATED:20260319T215946Z
LAST-MODIFIED:20260413T212831Z
UID:10006143-1917333000-1917338400@wfscapitalarea.com
SUMMARY:Mobile Food Pantry with El Buen Samaritano
DESCRIPTION:While supplies last\nEl Buen Samaritano will provide nutritious shelf-stable foods and fresh  produce.\n 
URL:https://wfscapitalarea.com/event/mobile-food-pantry-with-el-buen-samaritano/2030-10-04/
LOCATION:North Career Center\, 9001 N IH 35\, Austin\, TX\, 78753\, United States
CATEGORIES:Community Resources
ATTACH;FMTTYPE=image/jpeg:https://wfscapitalarea.com/wp-content/uploads/2026/03/wfs-logo-featured-image-teal.jpg
ORGANIZER;CN="Workforce Solutions Capital Area":MAILTO:info@wfscapitalarea.com
END:VEVENT
BEGIN:VEVENT
DTSTART;TZID=America/Chicago:20301018T083000
DTEND;TZID=America/Chicago:20301018T100000
DTSTAMP:20260422T060908
CREATED:20260413T213055Z
LAST-MODIFIED:20260413T213055Z
UID:10006203-1918542600-1918548000@wfscapitalarea.com
SUMMARY:Mobile Food Pantry with El Buen Samaritano
DESCRIPTION:While supplies last\nEl Buen Samaritano will provide nutritious shelf-stable foods and fresh  produce.\n 
URL:https://wfscapitalarea.com/event/mobile-food-pantry-with-el-buen-samaritano-2/2030-10-18/
LOCATION:North Career Center\, 9001 N IH 35\, Austin\, TX\, 78753\, United States
CATEGORIES:Community Resources
ATTACH;FMTTYPE=image/jpeg:https://wfscapitalarea.com/wp-content/uploads/2026/03/wfs-logo-featured-image-blue.jpg
ORGANIZER;CN="Workforce Solutions Capital Area":MAILTO:info@wfscapitalarea.com
END:VEVENT
BEGIN:VEVENT
DTSTART;TZID=America/Chicago:20301101T083000
DTEND;TZID=America/Chicago:20301101T100000
DTSTAMP:20260422T060908
CREATED:20260319T215946Z
LAST-MODIFIED:20260413T212831Z
UID:10006144-1919752200-1919757600@wfscapitalarea.com
SUMMARY:Mobile Food Pantry with El Buen Samaritano
DESCRIPTION:While supplies last\nEl Buen Samaritano will provide nutritious shelf-stable foods and fresh  produce.\n 
URL:https://wfscapitalarea.com/event/mobile-food-pantry-with-el-buen-samaritano/2030-11-01/
LOCATION:North Career Center\, 9001 N IH 35\, Austin\, TX\, 78753\, United States
CATEGORIES:Community Resources
ATTACH;FMTTYPE=image/jpeg:https://wfscapitalarea.com/wp-content/uploads/2026/03/wfs-logo-featured-image-teal.jpg
ORGANIZER;CN="Workforce Solutions Capital Area":MAILTO:info@wfscapitalarea.com
END:VEVENT
BEGIN:VEVENT
DTSTART;TZID=America/Chicago:20301115T083000
DTEND;TZID=America/Chicago:20301115T100000
DTSTAMP:20260422T060908
CREATED:20260413T213055Z
LAST-MODIFIED:20260413T213055Z
UID:10006204-1920961800-1920967200@wfscapitalarea.com
SUMMARY:Mobile Food Pantry with El Buen Samaritano
DESCRIPTION:While supplies last\nEl Buen Samaritano will provide nutritious shelf-stable foods and fresh  produce.\n 
URL:https://wfscapitalarea.com/event/mobile-food-pantry-with-el-buen-samaritano-2/2030-11-15/
LOCATION:North Career Center\, 9001 N IH 35\, Austin\, TX\, 78753\, United States
CATEGORIES:Community Resources
ATTACH;FMTTYPE=image/jpeg:https://wfscapitalarea.com/wp-content/uploads/2026/03/wfs-logo-featured-image-blue.jpg
ORGANIZER;CN="Workforce Solutions Capital Area":MAILTO:info@wfscapitalarea.com
END:VEVENT
BEGIN:VEVENT
DTSTART;TZID=America/Chicago:20301206T083000
DTEND;TZID=America/Chicago:20301206T100000
DTSTAMP:20260422T060908
CREATED:20260319T215946Z
LAST-MODIFIED:20260413T212831Z
UID:10006145-1922776200-1922781600@wfscapitalarea.com
SUMMARY:Mobile Food Pantry with El Buen Samaritano
DESCRIPTION:While supplies last\nEl Buen Samaritano will provide nutritious shelf-stable foods and fresh  produce.\n 
URL:https://wfscapitalarea.com/event/mobile-food-pantry-with-el-buen-samaritano/2030-12-06/
LOCATION:North Career Center\, 9001 N IH 35\, Austin\, TX\, 78753\, United States
CATEGORIES:Community Resources
ATTACH;FMTTYPE=image/jpeg:https://wfscapitalarea.com/wp-content/uploads/2026/03/wfs-logo-featured-image-teal.jpg
ORGANIZER;CN="Workforce Solutions Capital Area":MAILTO:info@wfscapitalarea.com
END:VEVENT
BEGIN:VEVENT
DTSTART;TZID=America/Chicago:20301220T083000
DTEND;TZID=America/Chicago:20301220T100000
DTSTAMP:20260422T060908
CREATED:20260413T213055Z
LAST-MODIFIED:20260413T213055Z
UID:10006205-1923985800-1923991200@wfscapitalarea.com
SUMMARY:Mobile Food Pantry with El Buen Samaritano
DESCRIPTION:While supplies last\nEl Buen Samaritano will provide nutritious shelf-stable foods and fresh  produce.\n 
URL:https://wfscapitalarea.com/event/mobile-food-pantry-with-el-buen-samaritano-2/2030-12-20/
LOCATION:North Career Center\, 9001 N IH 35\, Austin\, TX\, 78753\, United States
CATEGORIES:Community Resources
ATTACH;FMTTYPE=image/jpeg:https://wfscapitalarea.com/wp-content/uploads/2026/03/wfs-logo-featured-image-blue.jpg
ORGANIZER;CN="Workforce Solutions Capital Area":MAILTO:info@wfscapitalarea.com
END:VEVENT
BEGIN:VEVENT
DTSTART;TZID=America/Chicago:20310103T083000
DTEND;TZID=America/Chicago:20310103T100000
DTSTAMP:20260422T060908
CREATED:20260319T215946Z
LAST-MODIFIED:20260413T212831Z
UID:10006146-1925195400-1925200800@wfscapitalarea.com
SUMMARY:Mobile Food Pantry with El Buen Samaritano
DESCRIPTION:While supplies last\nEl Buen Samaritano will provide nutritious shelf-stable foods and fresh  produce.\n 
URL:https://wfscapitalarea.com/event/mobile-food-pantry-with-el-buen-samaritano/2031-01-03/
LOCATION:North Career Center\, 9001 N IH 35\, Austin\, TX\, 78753\, United States
CATEGORIES:Community Resources
ATTACH;FMTTYPE=image/jpeg:https://wfscapitalarea.com/wp-content/uploads/2026/03/wfs-logo-featured-image-teal.jpg
ORGANIZER;CN="Workforce Solutions Capital Area":MAILTO:info@wfscapitalarea.com
END:VEVENT
BEGIN:VEVENT
DTSTART;TZID=America/Chicago:20310117T083000
DTEND;TZID=America/Chicago:20310117T100000
DTSTAMP:20260422T060908
CREATED:20260413T213055Z
LAST-MODIFIED:20260413T213055Z
UID:10006206-1926405000-1926410400@wfscapitalarea.com
SUMMARY:Mobile Food Pantry with El Buen Samaritano
DESCRIPTION:While supplies last\nEl Buen Samaritano will provide nutritious shelf-stable foods and fresh  produce.\n 
URL:https://wfscapitalarea.com/event/mobile-food-pantry-with-el-buen-samaritano-2/2031-01-17/
LOCATION:North Career Center\, 9001 N IH 35\, Austin\, TX\, 78753\, United States
CATEGORIES:Community Resources
ATTACH;FMTTYPE=image/jpeg:https://wfscapitalarea.com/wp-content/uploads/2026/03/wfs-logo-featured-image-blue.jpg
ORGANIZER;CN="Workforce Solutions Capital Area":MAILTO:info@wfscapitalarea.com
END:VEVENT
END:VCALENDAR