BEGIN:VCALENDAR
VERSION:2.0
PRODID:-//Workforce Solutions Capital Area - ECPv6.15.20//NONSGML v1.0//EN
CALSCALE:GREGORIAN
METHOD:PUBLISH
X-ORIGINAL-URL:https://wfscapitalarea.com
X-WR-CALDESC:Events for Workforce Solutions Capital Area
REFRESH-INTERVAL;VALUE=DURATION:PT1H
X-Robots-Tag:noindex
X-PUBLISHED-TTL:PT1H
BEGIN:VTIMEZONE
TZID:America/Chicago
BEGIN:DAYLIGHT
TZOFFSETFROM:-0600
TZOFFSETTO:-0500
TZNAME:CDT
DTSTART:20270314T080000
END:DAYLIGHT
BEGIN:STANDARD
TZOFFSETFROM:-0500
TZOFFSETTO:-0600
TZNAME:CST
DTSTART:20271107T070000
END:STANDARD
BEGIN:DAYLIGHT
TZOFFSETFROM:-0600
TZOFFSETTO:-0500
TZNAME:CDT
DTSTART:20280312T080000
END:DAYLIGHT
BEGIN:STANDARD
TZOFFSETFROM:-0500
TZOFFSETTO:-0600
TZNAME:CST
DTSTART:20281105T070000
END:STANDARD
BEGIN:DAYLIGHT
TZOFFSETFROM:-0600
TZOFFSETTO:-0500
TZNAME:CDT
DTSTART:20290311T080000
END:DAYLIGHT
BEGIN:STANDARD
TZOFFSETFROM:-0500
TZOFFSETTO:-0600
TZNAME:CST
DTSTART:20291104T070000
END:STANDARD
BEGIN:DAYLIGHT
TZOFFSETFROM:-0600
TZOFFSETTO:-0500
TZNAME:CDT
DTSTART:20300310T080000
END:DAYLIGHT
BEGIN:STANDARD
TZOFFSETFROM:-0500
TZOFFSETTO:-0600
TZNAME:CST
DTSTART:20301103T070000
END:STANDARD
BEGIN:DAYLIGHT
TZOFFSETFROM:-0600
TZOFFSETTO:-0500
TZNAME:CDT
DTSTART:20310309T080000
END:DAYLIGHT
BEGIN:STANDARD
TZOFFSETFROM:-0500
TZOFFSETTO:-0600
TZNAME:CST
DTSTART:20311102T070000
END:STANDARD
END:VTIMEZONE
BEGIN:VEVENT
DTSTART;TZID=America/Chicago:20281103T083000
DTEND;TZID=America/Chicago:20281103T100000
DTSTAMP:20260421T151801
CREATED:20260319T215946Z
LAST-MODIFIED:20260413T212831Z
UID:10006120-1856853000-1856858400@wfscapitalarea.com
SUMMARY:Mobile Food Pantry with El Buen Samaritano
DESCRIPTION:While supplies last\nEl Buen Samaritano will provide nutritious shelf-stable foods and fresh  produce.\n 
URL:https://wfscapitalarea.com/event/mobile-food-pantry-with-el-buen-samaritano/2028-11-03/
LOCATION:North Career Center\, 9001 N IH 35\, Austin\, TX\, 78753\, United States
CATEGORIES:Community Resources
ATTACH;FMTTYPE=image/jpeg:https://wfscapitalarea.com/wp-content/uploads/2026/03/wfs-logo-featured-image-teal.jpg
ORGANIZER;CN="Workforce Solutions Capital Area":MAILTO:info@wfscapitalarea.com
END:VEVENT
BEGIN:VEVENT
DTSTART;TZID=America/Chicago:20281117T083000
DTEND;TZID=America/Chicago:20281117T100000
DTSTAMP:20260421T151801
CREATED:20260413T213055Z
LAST-MODIFIED:20260413T213055Z
UID:10006180-1858062600-1858068000@wfscapitalarea.com
SUMMARY:Mobile Food Pantry with El Buen Samaritano
DESCRIPTION:While supplies last\nEl Buen Samaritano will provide nutritious shelf-stable foods and fresh  produce.\n 
URL:https://wfscapitalarea.com/event/mobile-food-pantry-with-el-buen-samaritano-2/2028-11-17/
LOCATION:North Career Center\, 9001 N IH 35\, Austin\, TX\, 78753\, United States
CATEGORIES:Community Resources
ATTACH;FMTTYPE=image/jpeg:https://wfscapitalarea.com/wp-content/uploads/2026/03/wfs-logo-featured-image-blue.jpg
ORGANIZER;CN="Workforce Solutions Capital Area":MAILTO:info@wfscapitalarea.com
END:VEVENT
BEGIN:VEVENT
DTSTART;TZID=America/Chicago:20281201T083000
DTEND;TZID=America/Chicago:20281201T100000
DTSTAMP:20260421T151801
CREATED:20260319T215946Z
LAST-MODIFIED:20260413T212831Z
UID:10006121-1859272200-1859277600@wfscapitalarea.com
SUMMARY:Mobile Food Pantry with El Buen Samaritano
DESCRIPTION:While supplies last\nEl Buen Samaritano will provide nutritious shelf-stable foods and fresh  produce.\n 
URL:https://wfscapitalarea.com/event/mobile-food-pantry-with-el-buen-samaritano/2028-12-01/
LOCATION:North Career Center\, 9001 N IH 35\, Austin\, TX\, 78753\, United States
CATEGORIES:Community Resources
ATTACH;FMTTYPE=image/jpeg:https://wfscapitalarea.com/wp-content/uploads/2026/03/wfs-logo-featured-image-teal.jpg
ORGANIZER;CN="Workforce Solutions Capital Area":MAILTO:info@wfscapitalarea.com
END:VEVENT
BEGIN:VEVENT
DTSTART;TZID=America/Chicago:20281215T083000
DTEND;TZID=America/Chicago:20281215T100000
DTSTAMP:20260421T151801
CREATED:20260413T213055Z
LAST-MODIFIED:20260413T213055Z
UID:10006181-1860481800-1860487200@wfscapitalarea.com
SUMMARY:Mobile Food Pantry with El Buen Samaritano
DESCRIPTION:While supplies last\nEl Buen Samaritano will provide nutritious shelf-stable foods and fresh  produce.\n 
URL:https://wfscapitalarea.com/event/mobile-food-pantry-with-el-buen-samaritano-2/2028-12-15/
LOCATION:North Career Center\, 9001 N IH 35\, Austin\, TX\, 78753\, United States
CATEGORIES:Community Resources
ATTACH;FMTTYPE=image/jpeg:https://wfscapitalarea.com/wp-content/uploads/2026/03/wfs-logo-featured-image-blue.jpg
ORGANIZER;CN="Workforce Solutions Capital Area":MAILTO:info@wfscapitalarea.com
END:VEVENT
BEGIN:VEVENT
DTSTART;TZID=America/Chicago:20290105T083000
DTEND;TZID=America/Chicago:20290105T100000
DTSTAMP:20260421T151801
CREATED:20260319T215946Z
LAST-MODIFIED:20260413T212831Z
UID:10006122-1862296200-1862301600@wfscapitalarea.com
SUMMARY:Mobile Food Pantry with El Buen Samaritano
DESCRIPTION:While supplies last\nEl Buen Samaritano will provide nutritious shelf-stable foods and fresh  produce.\n 
URL:https://wfscapitalarea.com/event/mobile-food-pantry-with-el-buen-samaritano/2029-01-05/
LOCATION:North Career Center\, 9001 N IH 35\, Austin\, TX\, 78753\, United States
CATEGORIES:Community Resources
ATTACH;FMTTYPE=image/jpeg:https://wfscapitalarea.com/wp-content/uploads/2026/03/wfs-logo-featured-image-teal.jpg
ORGANIZER;CN="Workforce Solutions Capital Area":MAILTO:info@wfscapitalarea.com
END:VEVENT
BEGIN:VEVENT
DTSTART;TZID=America/Chicago:20290119T083000
DTEND;TZID=America/Chicago:20290119T100000
DTSTAMP:20260421T151801
CREATED:20260413T213055Z
LAST-MODIFIED:20260413T213055Z
UID:10006182-1863505800-1863511200@wfscapitalarea.com
SUMMARY:Mobile Food Pantry with El Buen Samaritano
DESCRIPTION:While supplies last\nEl Buen Samaritano will provide nutritious shelf-stable foods and fresh  produce.\n 
URL:https://wfscapitalarea.com/event/mobile-food-pantry-with-el-buen-samaritano-2/2029-01-19/
LOCATION:North Career Center\, 9001 N IH 35\, Austin\, TX\, 78753\, United States
CATEGORIES:Community Resources
ATTACH;FMTTYPE=image/jpeg:https://wfscapitalarea.com/wp-content/uploads/2026/03/wfs-logo-featured-image-blue.jpg
ORGANIZER;CN="Workforce Solutions Capital Area":MAILTO:info@wfscapitalarea.com
END:VEVENT
BEGIN:VEVENT
DTSTART;TZID=America/Chicago:20290202T083000
DTEND;TZID=America/Chicago:20290202T100000
DTSTAMP:20260421T151801
CREATED:20260319T215946Z
LAST-MODIFIED:20260413T212831Z
UID:10006123-1864715400-1864720800@wfscapitalarea.com
SUMMARY:Mobile Food Pantry with El Buen Samaritano
DESCRIPTION:While supplies last\nEl Buen Samaritano will provide nutritious shelf-stable foods and fresh  produce.\n 
URL:https://wfscapitalarea.com/event/mobile-food-pantry-with-el-buen-samaritano/2029-02-02/
LOCATION:North Career Center\, 9001 N IH 35\, Austin\, TX\, 78753\, United States
CATEGORIES:Community Resources
ATTACH;FMTTYPE=image/jpeg:https://wfscapitalarea.com/wp-content/uploads/2026/03/wfs-logo-featured-image-teal.jpg
ORGANIZER;CN="Workforce Solutions Capital Area":MAILTO:info@wfscapitalarea.com
END:VEVENT
BEGIN:VEVENT
DTSTART;TZID=America/Chicago:20290216T083000
DTEND;TZID=America/Chicago:20290216T100000
DTSTAMP:20260421T151801
CREATED:20260413T213055Z
LAST-MODIFIED:20260413T213055Z
UID:10006183-1865925000-1865930400@wfscapitalarea.com
SUMMARY:Mobile Food Pantry with El Buen Samaritano
DESCRIPTION:While supplies last\nEl Buen Samaritano will provide nutritious shelf-stable foods and fresh  produce.\n 
URL:https://wfscapitalarea.com/event/mobile-food-pantry-with-el-buen-samaritano-2/2029-02-16/
LOCATION:North Career Center\, 9001 N IH 35\, Austin\, TX\, 78753\, United States
CATEGORIES:Community Resources
ATTACH;FMTTYPE=image/jpeg:https://wfscapitalarea.com/wp-content/uploads/2026/03/wfs-logo-featured-image-blue.jpg
ORGANIZER;CN="Workforce Solutions Capital Area":MAILTO:info@wfscapitalarea.com
END:VEVENT
BEGIN:VEVENT
DTSTART;TZID=America/Chicago:20290302T083000
DTEND;TZID=America/Chicago:20290302T100000
DTSTAMP:20260421T151801
CREATED:20260319T215946Z
LAST-MODIFIED:20260413T212831Z
UID:10006124-1867134600-1867140000@wfscapitalarea.com
SUMMARY:Mobile Food Pantry with El Buen Samaritano
DESCRIPTION:While supplies last\nEl Buen Samaritano will provide nutritious shelf-stable foods and fresh  produce.\n 
URL:https://wfscapitalarea.com/event/mobile-food-pantry-with-el-buen-samaritano/2029-03-02/
LOCATION:North Career Center\, 9001 N IH 35\, Austin\, TX\, 78753\, United States
CATEGORIES:Community Resources
ATTACH;FMTTYPE=image/jpeg:https://wfscapitalarea.com/wp-content/uploads/2026/03/wfs-logo-featured-image-teal.jpg
ORGANIZER;CN="Workforce Solutions Capital Area":MAILTO:info@wfscapitalarea.com
END:VEVENT
BEGIN:VEVENT
DTSTART;TZID=America/Chicago:20290316T083000
DTEND;TZID=America/Chicago:20290316T100000
DTSTAMP:20260421T151801
CREATED:20260413T213055Z
LAST-MODIFIED:20260413T213055Z
UID:10006184-1868344200-1868349600@wfscapitalarea.com
SUMMARY:Mobile Food Pantry with El Buen Samaritano
DESCRIPTION:While supplies last\nEl Buen Samaritano will provide nutritious shelf-stable foods and fresh  produce.\n 
URL:https://wfscapitalarea.com/event/mobile-food-pantry-with-el-buen-samaritano-2/2029-03-16/
LOCATION:North Career Center\, 9001 N IH 35\, Austin\, TX\, 78753\, United States
CATEGORIES:Community Resources
ATTACH;FMTTYPE=image/jpeg:https://wfscapitalarea.com/wp-content/uploads/2026/03/wfs-logo-featured-image-blue.jpg
ORGANIZER;CN="Workforce Solutions Capital Area":MAILTO:info@wfscapitalarea.com
END:VEVENT
BEGIN:VEVENT
DTSTART;TZID=America/Chicago:20290406T083000
DTEND;TZID=America/Chicago:20290406T100000
DTSTAMP:20260421T151801
CREATED:20260319T215946Z
LAST-MODIFIED:20260413T212831Z
UID:10006125-1870158600-1870164000@wfscapitalarea.com
SUMMARY:Mobile Food Pantry with El Buen Samaritano
DESCRIPTION:While supplies last\nEl Buen Samaritano will provide nutritious shelf-stable foods and fresh  produce.\n 
URL:https://wfscapitalarea.com/event/mobile-food-pantry-with-el-buen-samaritano/2029-04-06/
LOCATION:North Career Center\, 9001 N IH 35\, Austin\, TX\, 78753\, United States
CATEGORIES:Community Resources
ATTACH;FMTTYPE=image/jpeg:https://wfscapitalarea.com/wp-content/uploads/2026/03/wfs-logo-featured-image-teal.jpg
ORGANIZER;CN="Workforce Solutions Capital Area":MAILTO:info@wfscapitalarea.com
END:VEVENT
BEGIN:VEVENT
DTSTART;TZID=America/Chicago:20290420T083000
DTEND;TZID=America/Chicago:20290420T100000
DTSTAMP:20260421T151801
CREATED:20260413T213055Z
LAST-MODIFIED:20260413T213055Z
UID:10006185-1871368200-1871373600@wfscapitalarea.com
SUMMARY:Mobile Food Pantry with El Buen Samaritano
DESCRIPTION:While supplies last\nEl Buen Samaritano will provide nutritious shelf-stable foods and fresh  produce.\n 
URL:https://wfscapitalarea.com/event/mobile-food-pantry-with-el-buen-samaritano-2/2029-04-20/
LOCATION:North Career Center\, 9001 N IH 35\, Austin\, TX\, 78753\, United States
CATEGORIES:Community Resources
ATTACH;FMTTYPE=image/jpeg:https://wfscapitalarea.com/wp-content/uploads/2026/03/wfs-logo-featured-image-blue.jpg
ORGANIZER;CN="Workforce Solutions Capital Area":MAILTO:info@wfscapitalarea.com
END:VEVENT
BEGIN:VEVENT
DTSTART;TZID=America/Chicago:20290504T083000
DTEND;TZID=America/Chicago:20290504T100000
DTSTAMP:20260421T151801
CREATED:20260319T215946Z
LAST-MODIFIED:20260413T212831Z
UID:10006126-1872577800-1872583200@wfscapitalarea.com
SUMMARY:Mobile Food Pantry with El Buen Samaritano
DESCRIPTION:While supplies last\nEl Buen Samaritano will provide nutritious shelf-stable foods and fresh  produce.\n 
URL:https://wfscapitalarea.com/event/mobile-food-pantry-with-el-buen-samaritano/2029-05-04/
LOCATION:North Career Center\, 9001 N IH 35\, Austin\, TX\, 78753\, United States
CATEGORIES:Community Resources
ATTACH;FMTTYPE=image/jpeg:https://wfscapitalarea.com/wp-content/uploads/2026/03/wfs-logo-featured-image-teal.jpg
ORGANIZER;CN="Workforce Solutions Capital Area":MAILTO:info@wfscapitalarea.com
END:VEVENT
BEGIN:VEVENT
DTSTART;TZID=America/Chicago:20290518T083000
DTEND;TZID=America/Chicago:20290518T100000
DTSTAMP:20260421T151801
CREATED:20260413T213055Z
LAST-MODIFIED:20260413T213055Z
UID:10006186-1873787400-1873792800@wfscapitalarea.com
SUMMARY:Mobile Food Pantry with El Buen Samaritano
DESCRIPTION:While supplies last\nEl Buen Samaritano will provide nutritious shelf-stable foods and fresh  produce.\n 
URL:https://wfscapitalarea.com/event/mobile-food-pantry-with-el-buen-samaritano-2/2029-05-18/
LOCATION:North Career Center\, 9001 N IH 35\, Austin\, TX\, 78753\, United States
CATEGORIES:Community Resources
ATTACH;FMTTYPE=image/jpeg:https://wfscapitalarea.com/wp-content/uploads/2026/03/wfs-logo-featured-image-blue.jpg
ORGANIZER;CN="Workforce Solutions Capital Area":MAILTO:info@wfscapitalarea.com
END:VEVENT
BEGIN:VEVENT
DTSTART;TZID=America/Chicago:20290601T083000
DTEND;TZID=America/Chicago:20290601T100000
DTSTAMP:20260421T151801
CREATED:20260319T215946Z
LAST-MODIFIED:20260413T212831Z
UID:10006127-1874997000-1875002400@wfscapitalarea.com
SUMMARY:Mobile Food Pantry with El Buen Samaritano
DESCRIPTION:While supplies last\nEl Buen Samaritano will provide nutritious shelf-stable foods and fresh  produce.\n 
URL:https://wfscapitalarea.com/event/mobile-food-pantry-with-el-buen-samaritano/2029-06-01/
LOCATION:North Career Center\, 9001 N IH 35\, Austin\, TX\, 78753\, United States
CATEGORIES:Community Resources
ATTACH;FMTTYPE=image/jpeg:https://wfscapitalarea.com/wp-content/uploads/2026/03/wfs-logo-featured-image-teal.jpg
ORGANIZER;CN="Workforce Solutions Capital Area":MAILTO:info@wfscapitalarea.com
END:VEVENT
BEGIN:VEVENT
DTSTART;TZID=America/Chicago:20290615T083000
DTEND;TZID=America/Chicago:20290615T100000
DTSTAMP:20260421T151801
CREATED:20260413T213055Z
LAST-MODIFIED:20260413T213055Z
UID:10006187-1876206600-1876212000@wfscapitalarea.com
SUMMARY:Mobile Food Pantry with El Buen Samaritano
DESCRIPTION:While supplies last\nEl Buen Samaritano will provide nutritious shelf-stable foods and fresh  produce.\n 
URL:https://wfscapitalarea.com/event/mobile-food-pantry-with-el-buen-samaritano-2/2029-06-15/
LOCATION:North Career Center\, 9001 N IH 35\, Austin\, TX\, 78753\, United States
CATEGORIES:Community Resources
ATTACH;FMTTYPE=image/jpeg:https://wfscapitalarea.com/wp-content/uploads/2026/03/wfs-logo-featured-image-blue.jpg
ORGANIZER;CN="Workforce Solutions Capital Area":MAILTO:info@wfscapitalarea.com
END:VEVENT
BEGIN:VEVENT
DTSTART;TZID=America/Chicago:20290706T083000
DTEND;TZID=America/Chicago:20290706T100000
DTSTAMP:20260421T151801
CREATED:20260319T215946Z
LAST-MODIFIED:20260413T212831Z
UID:10006128-1878021000-1878026400@wfscapitalarea.com
SUMMARY:Mobile Food Pantry with El Buen Samaritano
DESCRIPTION:While supplies last\nEl Buen Samaritano will provide nutritious shelf-stable foods and fresh  produce.\n 
URL:https://wfscapitalarea.com/event/mobile-food-pantry-with-el-buen-samaritano/2029-07-06/
LOCATION:North Career Center\, 9001 N IH 35\, Austin\, TX\, 78753\, United States
CATEGORIES:Community Resources
ATTACH;FMTTYPE=image/jpeg:https://wfscapitalarea.com/wp-content/uploads/2026/03/wfs-logo-featured-image-teal.jpg
ORGANIZER;CN="Workforce Solutions Capital Area":MAILTO:info@wfscapitalarea.com
END:VEVENT
BEGIN:VEVENT
DTSTART;TZID=America/Chicago:20290720T083000
DTEND;TZID=America/Chicago:20290720T100000
DTSTAMP:20260421T151801
CREATED:20260413T213055Z
LAST-MODIFIED:20260413T213055Z
UID:10006188-1879230600-1879236000@wfscapitalarea.com
SUMMARY:Mobile Food Pantry with El Buen Samaritano
DESCRIPTION:While supplies last\nEl Buen Samaritano will provide nutritious shelf-stable foods and fresh  produce.\n 
URL:https://wfscapitalarea.com/event/mobile-food-pantry-with-el-buen-samaritano-2/2029-07-20/
LOCATION:North Career Center\, 9001 N IH 35\, Austin\, TX\, 78753\, United States
CATEGORIES:Community Resources
ATTACH;FMTTYPE=image/jpeg:https://wfscapitalarea.com/wp-content/uploads/2026/03/wfs-logo-featured-image-blue.jpg
ORGANIZER;CN="Workforce Solutions Capital Area":MAILTO:info@wfscapitalarea.com
END:VEVENT
BEGIN:VEVENT
DTSTART;TZID=America/Chicago:20290803T083000
DTEND;TZID=America/Chicago:20290803T100000
DTSTAMP:20260421T151801
CREATED:20260319T215946Z
LAST-MODIFIED:20260413T212831Z
UID:10006129-1880440200-1880445600@wfscapitalarea.com
SUMMARY:Mobile Food Pantry with El Buen Samaritano
DESCRIPTION:While supplies last\nEl Buen Samaritano will provide nutritious shelf-stable foods and fresh  produce.\n 
URL:https://wfscapitalarea.com/event/mobile-food-pantry-with-el-buen-samaritano/2029-08-03/
LOCATION:North Career Center\, 9001 N IH 35\, Austin\, TX\, 78753\, United States
CATEGORIES:Community Resources
ATTACH;FMTTYPE=image/jpeg:https://wfscapitalarea.com/wp-content/uploads/2026/03/wfs-logo-featured-image-teal.jpg
ORGANIZER;CN="Workforce Solutions Capital Area":MAILTO:info@wfscapitalarea.com
END:VEVENT
BEGIN:VEVENT
DTSTART;TZID=America/Chicago:20290817T083000
DTEND;TZID=America/Chicago:20290817T100000
DTSTAMP:20260421T151801
CREATED:20260413T213055Z
LAST-MODIFIED:20260413T213055Z
UID:10006189-1881649800-1881655200@wfscapitalarea.com
SUMMARY:Mobile Food Pantry with El Buen Samaritano
DESCRIPTION:While supplies last\nEl Buen Samaritano will provide nutritious shelf-stable foods and fresh  produce.\n 
URL:https://wfscapitalarea.com/event/mobile-food-pantry-with-el-buen-samaritano-2/2029-08-17/
LOCATION:North Career Center\, 9001 N IH 35\, Austin\, TX\, 78753\, United States
CATEGORIES:Community Resources
ATTACH;FMTTYPE=image/jpeg:https://wfscapitalarea.com/wp-content/uploads/2026/03/wfs-logo-featured-image-blue.jpg
ORGANIZER;CN="Workforce Solutions Capital Area":MAILTO:info@wfscapitalarea.com
END:VEVENT
BEGIN:VEVENT
DTSTART;TZID=America/Chicago:20290907T083000
DTEND;TZID=America/Chicago:20290907T100000
DTSTAMP:20260421T151801
CREATED:20260319T215946Z
LAST-MODIFIED:20260413T212831Z
UID:10006130-1883464200-1883469600@wfscapitalarea.com
SUMMARY:Mobile Food Pantry with El Buen Samaritano
DESCRIPTION:While supplies last\nEl Buen Samaritano will provide nutritious shelf-stable foods and fresh  produce.\n 
URL:https://wfscapitalarea.com/event/mobile-food-pantry-with-el-buen-samaritano/2029-09-07/
LOCATION:North Career Center\, 9001 N IH 35\, Austin\, TX\, 78753\, United States
CATEGORIES:Community Resources
ATTACH;FMTTYPE=image/jpeg:https://wfscapitalarea.com/wp-content/uploads/2026/03/wfs-logo-featured-image-teal.jpg
ORGANIZER;CN="Workforce Solutions Capital Area":MAILTO:info@wfscapitalarea.com
END:VEVENT
BEGIN:VEVENT
DTSTART;TZID=America/Chicago:20290921T083000
DTEND;TZID=America/Chicago:20290921T100000
DTSTAMP:20260421T151801
CREATED:20260413T213055Z
LAST-MODIFIED:20260413T213055Z
UID:10006190-1884673800-1884679200@wfscapitalarea.com
SUMMARY:Mobile Food Pantry with El Buen Samaritano
DESCRIPTION:While supplies last\nEl Buen Samaritano will provide nutritious shelf-stable foods and fresh  produce.\n 
URL:https://wfscapitalarea.com/event/mobile-food-pantry-with-el-buen-samaritano-2/2029-09-21/
LOCATION:North Career Center\, 9001 N IH 35\, Austin\, TX\, 78753\, United States
CATEGORIES:Community Resources
ATTACH;FMTTYPE=image/jpeg:https://wfscapitalarea.com/wp-content/uploads/2026/03/wfs-logo-featured-image-blue.jpg
ORGANIZER;CN="Workforce Solutions Capital Area":MAILTO:info@wfscapitalarea.com
END:VEVENT
BEGIN:VEVENT
DTSTART;TZID=America/Chicago:20291005T083000
DTEND;TZID=America/Chicago:20291005T100000
DTSTAMP:20260421T151801
CREATED:20260319T215946Z
LAST-MODIFIED:20260413T212831Z
UID:10006131-1885883400-1885888800@wfscapitalarea.com
SUMMARY:Mobile Food Pantry with El Buen Samaritano
DESCRIPTION:While supplies last\nEl Buen Samaritano will provide nutritious shelf-stable foods and fresh  produce.\n 
URL:https://wfscapitalarea.com/event/mobile-food-pantry-with-el-buen-samaritano/2029-10-05/
LOCATION:North Career Center\, 9001 N IH 35\, Austin\, TX\, 78753\, United States
CATEGORIES:Community Resources
ATTACH;FMTTYPE=image/jpeg:https://wfscapitalarea.com/wp-content/uploads/2026/03/wfs-logo-featured-image-teal.jpg
ORGANIZER;CN="Workforce Solutions Capital Area":MAILTO:info@wfscapitalarea.com
END:VEVENT
BEGIN:VEVENT
DTSTART;TZID=America/Chicago:20291019T083000
DTEND;TZID=America/Chicago:20291019T100000
DTSTAMP:20260421T151801
CREATED:20260413T213055Z
LAST-MODIFIED:20260413T213055Z
UID:10006191-1887093000-1887098400@wfscapitalarea.com
SUMMARY:Mobile Food Pantry with El Buen Samaritano
DESCRIPTION:While supplies last\nEl Buen Samaritano will provide nutritious shelf-stable foods and fresh  produce.\n 
URL:https://wfscapitalarea.com/event/mobile-food-pantry-with-el-buen-samaritano-2/2029-10-19/
LOCATION:North Career Center\, 9001 N IH 35\, Austin\, TX\, 78753\, United States
CATEGORIES:Community Resources
ATTACH;FMTTYPE=image/jpeg:https://wfscapitalarea.com/wp-content/uploads/2026/03/wfs-logo-featured-image-blue.jpg
ORGANIZER;CN="Workforce Solutions Capital Area":MAILTO:info@wfscapitalarea.com
END:VEVENT
BEGIN:VEVENT
DTSTART;TZID=America/Chicago:20291102T083000
DTEND;TZID=America/Chicago:20291102T100000
DTSTAMP:20260421T151801
CREATED:20260319T215946Z
LAST-MODIFIED:20260413T212831Z
UID:10006132-1888302600-1888308000@wfscapitalarea.com
SUMMARY:Mobile Food Pantry with El Buen Samaritano
DESCRIPTION:While supplies last\nEl Buen Samaritano will provide nutritious shelf-stable foods and fresh  produce.\n 
URL:https://wfscapitalarea.com/event/mobile-food-pantry-with-el-buen-samaritano/2029-11-02/
LOCATION:North Career Center\, 9001 N IH 35\, Austin\, TX\, 78753\, United States
CATEGORIES:Community Resources
ATTACH;FMTTYPE=image/jpeg:https://wfscapitalarea.com/wp-content/uploads/2026/03/wfs-logo-featured-image-teal.jpg
ORGANIZER;CN="Workforce Solutions Capital Area":MAILTO:info@wfscapitalarea.com
END:VEVENT
BEGIN:VEVENT
DTSTART;TZID=America/Chicago:20291116T083000
DTEND;TZID=America/Chicago:20291116T100000
DTSTAMP:20260421T151801
CREATED:20260413T213055Z
LAST-MODIFIED:20260413T213055Z
UID:10006192-1889512200-1889517600@wfscapitalarea.com
SUMMARY:Mobile Food Pantry with El Buen Samaritano
DESCRIPTION:While supplies last\nEl Buen Samaritano will provide nutritious shelf-stable foods and fresh  produce.\n 
URL:https://wfscapitalarea.com/event/mobile-food-pantry-with-el-buen-samaritano-2/2029-11-16/
LOCATION:North Career Center\, 9001 N IH 35\, Austin\, TX\, 78753\, United States
CATEGORIES:Community Resources
ATTACH;FMTTYPE=image/jpeg:https://wfscapitalarea.com/wp-content/uploads/2026/03/wfs-logo-featured-image-blue.jpg
ORGANIZER;CN="Workforce Solutions Capital Area":MAILTO:info@wfscapitalarea.com
END:VEVENT
BEGIN:VEVENT
DTSTART;TZID=America/Chicago:20291207T083000
DTEND;TZID=America/Chicago:20291207T100000
DTSTAMP:20260421T151801
CREATED:20260319T215946Z
LAST-MODIFIED:20260413T212831Z
UID:10006133-1891326600-1891332000@wfscapitalarea.com
SUMMARY:Mobile Food Pantry with El Buen Samaritano
DESCRIPTION:While supplies last\nEl Buen Samaritano will provide nutritious shelf-stable foods and fresh  produce.\n 
URL:https://wfscapitalarea.com/event/mobile-food-pantry-with-el-buen-samaritano/2029-12-07/
LOCATION:North Career Center\, 9001 N IH 35\, Austin\, TX\, 78753\, United States
CATEGORIES:Community Resources
ATTACH;FMTTYPE=image/jpeg:https://wfscapitalarea.com/wp-content/uploads/2026/03/wfs-logo-featured-image-teal.jpg
ORGANIZER;CN="Workforce Solutions Capital Area":MAILTO:info@wfscapitalarea.com
END:VEVENT
BEGIN:VEVENT
DTSTART;TZID=America/Chicago:20291221T083000
DTEND;TZID=America/Chicago:20291221T100000
DTSTAMP:20260421T151801
CREATED:20260413T213055Z
LAST-MODIFIED:20260413T213055Z
UID:10006193-1892536200-1892541600@wfscapitalarea.com
SUMMARY:Mobile Food Pantry with El Buen Samaritano
DESCRIPTION:While supplies last\nEl Buen Samaritano will provide nutritious shelf-stable foods and fresh  produce.\n 
URL:https://wfscapitalarea.com/event/mobile-food-pantry-with-el-buen-samaritano-2/2029-12-21/
LOCATION:North Career Center\, 9001 N IH 35\, Austin\, TX\, 78753\, United States
CATEGORIES:Community Resources
ATTACH;FMTTYPE=image/jpeg:https://wfscapitalarea.com/wp-content/uploads/2026/03/wfs-logo-featured-image-blue.jpg
ORGANIZER;CN="Workforce Solutions Capital Area":MAILTO:info@wfscapitalarea.com
END:VEVENT
BEGIN:VEVENT
DTSTART;TZID=America/Chicago:20300104T083000
DTEND;TZID=America/Chicago:20300104T100000
DTSTAMP:20260421T151801
CREATED:20260319T215946Z
LAST-MODIFIED:20260413T212831Z
UID:10006134-1893745800-1893751200@wfscapitalarea.com
SUMMARY:Mobile Food Pantry with El Buen Samaritano
DESCRIPTION:While supplies last\nEl Buen Samaritano will provide nutritious shelf-stable foods and fresh  produce.\n 
URL:https://wfscapitalarea.com/event/mobile-food-pantry-with-el-buen-samaritano/2030-01-04/
LOCATION:North Career Center\, 9001 N IH 35\, Austin\, TX\, 78753\, United States
CATEGORIES:Community Resources
ATTACH;FMTTYPE=image/jpeg:https://wfscapitalarea.com/wp-content/uploads/2026/03/wfs-logo-featured-image-teal.jpg
ORGANIZER;CN="Workforce Solutions Capital Area":MAILTO:info@wfscapitalarea.com
END:VEVENT
BEGIN:VEVENT
DTSTART;TZID=America/Chicago:20300118T083000
DTEND;TZID=America/Chicago:20300118T100000
DTSTAMP:20260421T151801
CREATED:20260413T213055Z
LAST-MODIFIED:20260413T213055Z
UID:10006194-1894955400-1894960800@wfscapitalarea.com
SUMMARY:Mobile Food Pantry with El Buen Samaritano
DESCRIPTION:While supplies last\nEl Buen Samaritano will provide nutritious shelf-stable foods and fresh  produce.\n 
URL:https://wfscapitalarea.com/event/mobile-food-pantry-with-el-buen-samaritano-2/2030-01-18/
LOCATION:North Career Center\, 9001 N IH 35\, Austin\, TX\, 78753\, United States
CATEGORIES:Community Resources
ATTACH;FMTTYPE=image/jpeg:https://wfscapitalarea.com/wp-content/uploads/2026/03/wfs-logo-featured-image-blue.jpg
ORGANIZER;CN="Workforce Solutions Capital Area":MAILTO:info@wfscapitalarea.com
END:VEVENT
END:VCALENDAR