BEGIN:VCALENDAR
VERSION:2.0
PRODID:-//Workforce Solutions Capital Area - ECPv6.15.20//NONSGML v1.0//EN
CALSCALE:GREGORIAN
METHOD:PUBLISH
X-WR-CALNAME:Workforce Solutions Capital Area
X-ORIGINAL-URL:https://wfscapitalarea.com
X-WR-CALDESC:Events for Workforce Solutions Capital Area
REFRESH-INTERVAL;VALUE=DURATION:PT1H
X-Robots-Tag:noindex
X-PUBLISHED-TTL:PT1H
BEGIN:VTIMEZONE
TZID:America/Chicago
BEGIN:DAYLIGHT
TZOFFSETFROM:-0600
TZOFFSETTO:-0500
TZNAME:CDT
DTSTART:20250309T080000
END:DAYLIGHT
BEGIN:STANDARD
TZOFFSETFROM:-0500
TZOFFSETTO:-0600
TZNAME:CST
DTSTART:20251102T070000
END:STANDARD
BEGIN:DAYLIGHT
TZOFFSETFROM:-0600
TZOFFSETTO:-0500
TZNAME:CDT
DTSTART:20260308T080000
END:DAYLIGHT
BEGIN:STANDARD
TZOFFSETFROM:-0500
TZOFFSETTO:-0600
TZNAME:CST
DTSTART:20261101T070000
END:STANDARD
BEGIN:DAYLIGHT
TZOFFSETFROM:-0600
TZOFFSETTO:-0500
TZNAME:CDT
DTSTART:20270314T080000
END:DAYLIGHT
BEGIN:STANDARD
TZOFFSETFROM:-0500
TZOFFSETTO:-0600
TZNAME:CST
DTSTART:20271107T070000
END:STANDARD
END:VTIMEZONE
BEGIN:VEVENT
DTSTART;TZID=America/Chicago:20260605T083000
DTEND;TZID=America/Chicago:20260605T100000
DTSTAMP:20260423T110407
CREATED:20260319T215946Z
LAST-MODIFIED:20260423T041648Z
UID:10006091-1780648200-1780653600@wfscapitalarea.com
SUMMARY:Mobile Food Pantry with El Buen Samaritano
DESCRIPTION:While supplies last \nEl Buen Samaritano will provide nutritious shelf-stable foods and fresh  produce.
URL:https://wfscapitalarea.com/event/mobile-food-pantry-with-el-buen-samaritano/2026-06-05/
LOCATION:North Career Center\, 9001 N IH 35\, Austin\, TX\, 78753\, United States
CATEGORIES:Community Resources
ATTACH;FMTTYPE=image/png:https://wfscapitalarea.com/wp-content/uploads/2026/04/WFS-Mobile-Food-Pantry.png
ORGANIZER;CN="Workforce Solutions Capital Area":MAILTO:info@wfscapitalarea.com
END:VEVENT
BEGIN:VEVENT
DTSTART;TZID=America/Chicago:20260619T083000
DTEND;TZID=America/Chicago:20260619T100000
DTSTAMP:20260423T110407
CREATED:20260413T213055Z
LAST-MODIFIED:20260423T041847Z
UID:10006151-1781857800-1781863200@wfscapitalarea.com
SUMMARY:Mobile Food Pantry with El Buen Samaritano
DESCRIPTION:While supplies last \nEl Buen Samaritano will provide nutritious shelf-stable foods and fresh produce.
URL:https://wfscapitalarea.com/event/mobile-food-pantry-with-el-buen-samaritano-2/2026-06-19/
LOCATION:North Career Center\, 9001 N IH 35\, Austin\, TX\, 78753\, United States
CATEGORIES:Community Resources
ATTACH;FMTTYPE=image/png:https://wfscapitalarea.com/wp-content/uploads/2026/04/WFS-Mobile-Food-Pantry.png
ORGANIZER;CN="Workforce Solutions Capital Area":MAILTO:info@wfscapitalarea.com
END:VEVENT
END:VCALENDAR