BEGIN:VCALENDAR
VERSION:2.0
PRODID:-//Workforce Solutions Capital Area - ECPv6.15.20//NONSGML v1.0//EN
CALSCALE:GREGORIAN
METHOD:PUBLISH
X-WR-CALNAME:Workforce Solutions Capital Area
X-ORIGINAL-URL:https://wfscapitalarea.com
X-WR-CALDESC:Events for Workforce Solutions Capital Area
REFRESH-INTERVAL;VALUE=DURATION:PT1H
X-Robots-Tag:noindex
X-PUBLISHED-TTL:PT1H
BEGIN:VTIMEZONE
TZID:America/Chicago
BEGIN:DAYLIGHT
TZOFFSETFROM:-0600
TZOFFSETTO:-0500
TZNAME:CDT
DTSTART:20250309T080000
END:DAYLIGHT
BEGIN:STANDARD
TZOFFSETFROM:-0500
TZOFFSETTO:-0600
TZNAME:CST
DTSTART:20251102T070000
END:STANDARD
BEGIN:DAYLIGHT
TZOFFSETFROM:-0600
TZOFFSETTO:-0500
TZNAME:CDT
DTSTART:20260308T080000
END:DAYLIGHT
BEGIN:STANDARD
TZOFFSETFROM:-0500
TZOFFSETTO:-0600
TZNAME:CST
DTSTART:20261101T070000
END:STANDARD
BEGIN:DAYLIGHT
TZOFFSETFROM:-0600
TZOFFSETTO:-0500
TZNAME:CDT
DTSTART:20270314T080000
END:DAYLIGHT
BEGIN:STANDARD
TZOFFSETFROM:-0500
TZOFFSETTO:-0600
TZNAME:CST
DTSTART:20271107T070000
END:STANDARD
END:VTIMEZONE
BEGIN:VEVENT
DTSTART;TZID=America/Chicago:20260319T063000
DTEND;TZID=America/Chicago:20260319T073000
DTSTAMP:20260421T050805
CREATED:20260319T215343Z
LAST-MODIFIED:20260319T215344Z
UID:10003151-1773901800-1773905400@wfscapitalarea.com
SUMMARY:Executive Committee Meeting
DESCRIPTION:Board of Directors Meetings are held at the WFS Capital Area North Career Center (9001 N IH 35\, Suite 110\, Austin TX 78753).\nDownload Agenda\nDownload Public Comment Procedures
URL:https://wfscapitalarea.com/event/executive-committee-meeting/
LOCATION:North Career Center\, 9001 N IH 35\, Austin\, TX\, 78753\, United States
CATEGORIES:Board Meetings
ORGANIZER;CN="Workforce Solutions Capital Area":MAILTO:info@wfscapitalarea.com
END:VEVENT
BEGIN:VEVENT
DTSTART;TZID=America/Chicago:20260319T073000
DTEND;TZID=America/Chicago:20260319T080000
DTSTAMP:20260421T050805
CREATED:20260319T215343Z
LAST-MODIFIED:20260319T215344Z
UID:10003150-1773905400-1773907200@wfscapitalarea.com
SUMMARY:Board Officers Meeting
DESCRIPTION:Meetings are held at the WFS Capital Area North Career Center (9001 N IH 35\, Suite 110\, Austin TX 78753).\nDownload Agenda\nDownload Public Comment Procedures
URL:https://wfscapitalarea.com/event/board-officers-meeting/
LOCATION:North Career Center\, 9001 N IH 35\, Austin\, TX\, 78753\, United States
CATEGORIES:Board Meetings
ORGANIZER;CN="Workforce Solutions Capital Area":MAILTO:info@wfscapitalarea.com
END:VEVENT
END:VCALENDAR